BEGIN:VCALENDAR
VERSION:2.0
PRODID:-//イルチブレインヨガ西宮スタジオ - ECPv6.15.20//NONSGML v1.0//EN
CALSCALE:GREGORIAN
METHOD:PUBLISH
X-WR-CALNAME:イルチブレインヨガ西宮スタジオ
X-ORIGINAL-URL:https://ilchibrainyoga-nishinomiya.com
X-WR-CALDESC:イルチブレインヨガ西宮スタジオ のイベント
REFRESH-INTERVAL;VALUE=DURATION:PT1H
X-Robots-Tag:noindex
X-PUBLISHED-TTL:PT1H
BEGIN:VTIMEZONE
TZID:Asia/Tokyo
BEGIN:STANDARD
TZOFFSETFROM:+0900
TZOFFSETTO:+0900
TZNAME:JST
DTSTART:20230101T000000
END:STANDARD
END:VTIMEZONE
BEGIN:VEVENT
DTSTART;VALUE=DATE:20251230
DTEND;VALUE=DATE:20260101
DTSTAMP:20260424T143235
CREATED:20251218T063352Z
LAST-MODIFIED:20251218T063352Z
UID:4399-1767052800-1767225599@ilchibrainyoga-nishinomiya.com
SUMMARY:🎄腸と脳を整える！新感覚YOGAエクササイズ
DESCRIPTION:⛄１年頑張った体にご褒美キャンペーン💖\n🎁体験者全員に「お腹ぽかぽか腸もみ」プレゼント！\n\n🌟こんな方におすすめ\n\n冷え性で悩んでいる方\n自律神経のバランスを整えたい方\n身体が硬いと感じている方\n呼吸を深く学びたい方\n運動不足を解消したい方\n\n👉 老若男女OK！\n👉 体が硬くても安心！\n👉 継続参加も可能！ \n\n🔥新感覚トレーニング体験コース\n内容：トレーニング90分 + 自律神経バランスチェック \n🗓開催日程\n12月18(木)～31(日) \n※上記以外もご相談ください。㈪定休日 \n⏰時間帯\n\n10:10～11:40\n14:10～15:40\n18:40～20:10\n\n\n💰参加費\n1回 1000円（要予約） \n👜持ち物\n動きやすい服・飲み物・タオル \n\n📍会場\nイルチブレインヨガ西宮スタジオ\n（JR西宮駅 南へ徒歩３分／西宮市松原町4-4 5階） \n☎ 0798-26-9580　担当：吉田・福山 \n\n📲お申込み方法\n\nLINEからのお申し込みはこちら ⇒ https://lin.ee/oQ1yuZW\n[体験レッスンお申し込みフォーム]\n\n\n株式会社DAHN WORLD JAPAN　ダンワールドジャパン \n株式会社DAHN WORLD JAPAN　ダンワールドジャパン
URL:https://ilchibrainyoga-nishinomiya.com/event/%f0%9f%8e%84%e8%85%b8%e3%81%a8%e8%84%b3%e3%82%92%e6%95%b4%e3%81%88%e3%82%8b%ef%bc%81%e6%96%b0%e6%84%9f%e8%a6%9ayoga%e3%82%a8%e3%82%af%e3%82%b5%e3%82%b5%e3%82%a4%e3%82%ba-2/
LOCATION:イルチブレインヨガ西宮スタジオ
ATTACH;FMTTYPE=image/png:https://ilchibrainyoga-nishinomiya.com/wp-content/uploads/2025/12/1b7421d12446cba58cf587cc54d985ae.png
END:VEVENT
BEGIN:VEVENT
DTSTART;VALUE=DATE:20251223
DTEND;VALUE=DATE:20251229
DTSTAMP:20260424T143235
CREATED:20251218T063311Z
LAST-MODIFIED:20251218T063311Z
UID:4397-1766448000-1766966399@ilchibrainyoga-nishinomiya.com
SUMMARY:🎄腸と脳を整える！新感覚YOGAエクササイズ
DESCRIPTION:⛄１年頑張った体にご褒美キャンペーン💖\n🎁体験者全員に「お腹ぽかぽか腸もみ」プレゼント！\n\n🌟こんな方におすすめ\n\n冷え性で悩んでいる方\n自律神経のバランスを整えたい方\n身体が硬いと感じている方\n呼吸を深く学びたい方\n運動不足を解消したい方\n\n👉 老若男女OK！\n👉 体が硬くても安心！\n👉 継続参加も可能！ \n\n🔥新感覚トレーニング体験コース\n内容：トレーニング90分 + 自律神経バランスチェック \n🗓開催日程\n12月18(木)～31(日) \n※上記以外もご相談ください。㈪定休日 \n⏰時間帯\n\n10:10～11:40\n14:10～15:40\n18:40～20:10\n\n\n💰参加費\n1回 1000円（要予約） \n👜持ち物\n動きやすい服・飲み物・タオル \n\n📍会場\nイルチブレインヨガ西宮スタジオ\n（JR西宮駅 南へ徒歩３分／西宮市松原町4-4 5階） \n☎ 0798-26-9580　担当：吉田・福山 \n\n📲お申込み方法\n\nLINEからのお申し込みはこちら ⇒ https://lin.ee/oQ1yuZW\n[体験レッスンお申し込みフォーム]\n\n\n株式会社DAHN WORLD JAPAN　ダンワールドジャパン \n株式会社DAHN WORLD JAPAN　ダンワールドジャパン
URL:https://ilchibrainyoga-nishinomiya.com/event/%f0%9f%8e%84%e8%85%b8%e3%81%a8%e8%84%b3%e3%82%92%e6%95%b4%e3%81%88%e3%82%8b%ef%bc%81%e6%96%b0%e6%84%9f%e8%a6%9ayoga%e3%82%a8%e3%82%af%e3%82%b5%e3%82%b5%e3%82%a4%e3%82%ba/
LOCATION:イルチブレインヨガ西宮スタジオ
ATTACH;FMTTYPE=image/png:https://ilchibrainyoga-nishinomiya.com/wp-content/uploads/2025/12/1b7421d12446cba58cf587cc54d985ae.png
END:VEVENT
BEGIN:VEVENT
DTSTART;VALUE=DATE:20251218
DTEND;VALUE=DATE:20251222
DTSTAMP:20260424T143235
CREATED:20251218T062951Z
LAST-MODIFIED:20251218T063120Z
UID:4394-1766016000-1766361599@ilchibrainyoga-nishinomiya.com
SUMMARY:🎄腸と脳を整える！新感覚YOGAエクササイズ
DESCRIPTION:⛄１年頑張った体にご褒美キャンペーン💖\n🎁体験者全員に「お腹ぽかぽか腸もみ」プレゼント！\n\n🌟こんな方におすすめ\n\n冷え性で悩んでいる方\n自律神経のバランスを整えたい方\n身体が硬いと感じている方\n呼吸を深く学びたい方\n運動不足を解消したい方\n\n👉 老若男女OK！\n👉 体が硬くても安心！\n👉 継続参加も可能！ \n\n🔥新感覚トレーニング体験コース\n内容：トレーニング90分 + 自律神経バランスチェック \n🗓開催日程\n12月18(木)～31(日) \n※上記以外もご相談ください。㈪定休日 \n⏰時間帯\n\n10:10～11:40\n14:10～15:40\n18:40～20:10\n\n\n💰参加費\n1回 1000円（要予約） \n👜持ち物\n動きやすい服・飲み物・タオル \n\n📍会場\nイルチブレインヨガ西宮スタジオ\n（JR西宮駅 南へ徒歩３分／西宮市松原町4-4 5階） \n☎ 0798-26-9580　担当：吉田・福山 \n\n📲お申込み方法\n\nLINEからのお申し込みはこちら ⇒ https://lin.ee/oQ1yuZW\n[体験レッスンお申し込みフォーム]\n\n\n株式会社DAHN WORLD JAPAN　ダンワールドジャパン \n株式会社DAHN WORLD JAPAN　ダンワールドジャパン
URL:https://ilchibrainyoga-nishinomiya.com/event/%f0%9f%8e%84%e8%85%b8%e3%81%a8%e8%84%b3%e3%80%80%e6%96%b0%e6%84%9f%e8%a6%9ayoga%e3%82%a8%e3%82%af%e3%82%b5%e3%82%b5%e3%82%a4%e3%82%ba-2/
LOCATION:イルチブレインヨガ西宮スタジオ
ATTACH;FMTTYPE=image/png:https://ilchibrainyoga-nishinomiya.com/wp-content/uploads/2025/12/1b7421d12446cba58cf587cc54d985ae.png
END:VEVENT
BEGIN:VEVENT
DTSTART;TZID=Asia/Tokyo:20250226T100000
DTEND;TZID=Asia/Tokyo:20250330T160000
DTSTAMP:20260424T143235
CREATED:20250326T024309Z
LAST-MODIFIED:20250326T024309Z
UID:3759-1740564000-1743350400@ilchibrainyoga-nishinomiya.com
SUMMARY:いきいき新生活体験会🌟
DESCRIPTION:腸と脳の新感覚エクササイズ\n  \n内容：ストレッチ&体操、丹田体幹強化、呼吸法、瞑想、気功など \n体験費：１０００円／回 \n期間：２０２５年４月３０日まで \n持ち物：飲み物、動きやすい服装 \n体験時間：\n(火)〜(木)　10:00～11:40、14:00〜15:40、18:30～20:00 \n(金)　　　   10:00～11:40、14:00〜15:40、19:00～21:40 \n(土)(日)　　10:00～11:40、14:00～15:40 \n  \n🎁体験後に【腸もみ】 プレゼント🌟 \n  \n🌟こんな方におすすめ\n体幹アップ😀\n集中力アップ🔥\n美腸・美肌✨\nリラックス🍀\nダイエット😊\n潜在能力アップ🤩 \n  \nイルチブレインヨガ 西宮スタジオ\n0798-26-9580\n（営業時間9−21時）(月)定休日 \n・LINEからのお申し込みはこちら⇒https://lin.ee/oQ1yuZW
URL:https://ilchibrainyoga-nishinomiya.com/event/%e3%81%84%e3%81%8d%e3%81%84%e3%81%8d%e6%96%b0%e7%94%9f%e6%b4%bb%e4%bd%93%e9%a8%93%e4%bc%9a%f0%9f%8c%9f/
LOCATION:イルチブレインヨガ西宮スタジオ\, 兵庫県西宮市松原町4-4 グランディールⅢ 5階\, 662-0912
ATTACH;FMTTYPE=image/jpeg:https://ilchibrainyoga-nishinomiya.com/wp-content/uploads/2025/03/hana.jpg
END:VEVENT
BEGIN:VEVENT
DTSTART;TZID=Asia/Tokyo:20250226T100000
DTEND;TZID=Asia/Tokyo:20250330T160000
DTSTAMP:20260424T143235
CREATED:20250226T020743Z
LAST-MODIFIED:20250226T125305Z
UID:3712-1740564000-1743350400@ilchibrainyoga-nishinomiya.com
SUMMARY:ホワイトデー♡キャンペーン ２回体験会！
DESCRIPTION:腸と脳の新感覚エクササイズ\n  \n内容：ストレッチ&体操、丹田体幹強化、呼吸法、瞑想、気功など \n体験費：１５００円／２回 \n期間：２０２５年３月３０日まで \n持ち物：飲み物、動きやすい服装 \n体験時間：\n(火)〜(木)　10:00～11:40、14:00〜15:40、18:30～20:00 \n(金)　　　   10:00～11:40、14:00〜15:40、19:00～21:40 \n(土)(日)　　10:00～11:40、14:00～15:40 \n  \n🎁「自律神経のバランス」チェックとカウンセリング プレゼント🌟 \n  \n🌟こんな方におすすめ\n体質改善したい🌸🌲\n首、肩、腰が硬い😅\n運動不足🏃‍♀️\n柔軟性アップ🙆‍♀️\nメンタル強化😊\n潜在能力開発🤩 \n  \nイルチブレインヨガ 西宮スタジオ\n0798-26-9580\n（営業時間9−21時）(月)定休日 \n・LINEからのお申し込みはこちら⇒https://lin.ee/oQ1yuZW
URL:https://ilchibrainyoga-nishinomiya.com/event/%e3%83%9b%e3%83%af%e3%82%a4%e3%83%88%e3%83%87%e3%83%bc%e2%99%a1%e3%82%ad%e3%83%a3%e3%83%b3%e3%83%9a%e3%83%bc%e3%83%b3-%ef%bc%92%e5%9b%9e%e4%bd%93%e9%a8%93%e4%bc%9a%ef%bc%81/
LOCATION:イルチブレインヨガ西宮スタジオ\, 兵庫県西宮市松原町4-4 グランディールⅢ 5階\, 662-0912
ATTACH;FMTTYPE=image/jpeg:https://ilchibrainyoga-nishinomiya.com/wp-content/uploads/2025/02/202503.jpg
END:VEVENT
BEGIN:VEVENT
DTSTART;TZID=Asia/Tokyo:20241219T100000
DTEND;TZID=Asia/Tokyo:20250119T160000
DTSTAMP:20260424T143235
CREATED:20241219T094040Z
LAST-MODIFIED:20250108T021120Z
UID:3632-1734602400-1737302400@ilchibrainyoga-nishinomiya.com
SUMMARY:🐍年末年始特別キャンペーン なんと3回！体験会
DESCRIPTION:腸と脳の新感覚エクササイズ\nトレーニング９０分＋腸またはへそヒーリング１５分\n（🎁ヒーリングは初回にプレゼント） \n内容：ストレッチ&体操、丹田体幹強化、呼吸法、瞑想、気功など \n体験費：１５００円／３回 \n期間：２０２５年１月２０日まで \n持ち物：飲み物、動きやすい服装 \n体験時間 \n(火)〜(金)　10:00～11:40、14:00〜15:40、18:30～20:00 \n(土)(日)　　10:00～11:40、14:00～15:40 \n  \n🌟こんな方におすすめ\n冷えやすい⛄️\n首、肩、腰が硬い😅\n運動不足🏃‍♀️\n柔軟性アップ🙆‍♀️\nメンタル強化🫨\n潜在能力開発🪐 \n  \nイルチブレインヨガ 西宮スタジオ\n0798-26-9580\n（営業時間9−21時）(月)定休日 \n 
URL:https://ilchibrainyoga-nishinomiya.com/event/%f0%9f%90%b2%e5%b9%b4%e6%9c%ab%e5%b9%b4%e5%a7%8b%e7%89%b9%e5%88%a5%e3%82%ad%e3%83%a3%e3%83%b3%e3%83%9a%e3%83%bc%e3%83%b3-%e3%81%aa%e3%82%93%e3%81%a83%e5%9b%9e%ef%bc%81%e4%bd%93%e9%a8%93%e4%bc%9a/
LOCATION:イルチブレインヨガ西宮スタジオ\, 兵庫県西宮市松原町4-4 グランディールⅢ 5階\, 662-0912
ATTACH;FMTTYPE=image/jpeg:https://ilchibrainyoga-nishinomiya.com/wp-content/uploads/2024/12/209ddb73a9227c1e9ecdf9dad3904bcd.jpg
END:VEVENT
END:VCALENDAR