BEGIN:VCALENDAR
VERSION:2.0
PRODID:-//イルチブレインヨガ西宮スタジオ - ECPv6.15.20//NONSGML v1.0//EN
CALSCALE:GREGORIAN
METHOD:PUBLISH
X-WR-CALNAME:イルチブレインヨガ西宮スタジオ
X-ORIGINAL-URL:https://ilchibrainyoga-nishinomiya.com
X-WR-CALDESC:イルチブレインヨガ西宮スタジオ のイベント
REFRESH-INTERVAL;VALUE=DURATION:PT1H
X-Robots-Tag:noindex
X-PUBLISHED-TTL:PT1H
BEGIN:VTIMEZONE
TZID:Asia/Tokyo
BEGIN:STANDARD
TZOFFSETFROM:+0900
TZOFFSETTO:+0900
TZNAME:JST
DTSTART:20240101T000000
END:STANDARD
END:VTIMEZONE
BEGIN:VEVENT
DTSTART;TZID=Asia/Tokyo:20250529T153000
DTEND;TZID=Asia/Tokyo:20250529T170000
DTSTAMP:20260425T065449
CREATED:20250513T024719Z
LAST-MODIFIED:20250515T052636Z
UID:3805-1748532600-1748538000@ilchibrainyoga-nishinomiya.com
SUMMARY:腸と脳イキイキ体験会！
DESCRIPTION:誰にでもできて簡単な動きで体の巡りアップ ❣\n腸を整えて、脳を活性化し、季節の変わり目の\n春を元気に楽しく過ごしましょう！むずかしいポーズは\nありません。お気軽にご参加ください♪ \nこんな方にお勧め \n＊運動不足\n＊首、肩、腰が硬い\n＊柔軟性アップ\n＊健康維持\n＊集中力アップ \n◎老若男女OK\n◎体が硬くてもOK\n◎継続もできます \n●5月15日㈭\n●5月29日㈭\n●6月19日㈭\n15時30分～17時\nプレラにしのみや　6階　和室\n(阪急西宮北口駅 南西口徒歩1分、西宮市高松町4－8) \n●6月26日㈬　11時～16時 (イベント中数回ヨガします)\nカクチーナ　ケ　インカント(西宮市市庭町9-12香櫨館C棟、阪神 香櫨園駅徒歩3分) \n・参加費：1回　500円（要予約・複数参加可）\n・持ち物：動きやすい服装、飲み物、タオル \nイルチブレインヨガ西宮スタジオ\n☎ 0798-26-9580　担当：吉田・福山 \n\n・LINEからのお申し込みはこちら⇒https://lin.ee/oQ1yuZW \n・\n\n  \n\n\n\n\n\n \n体験ご希望日時\n		(必須)　※ご注意：月曜日は定休日です\n		\n \n—以下から選択してください—10111213141516171819時 —以下から選択してください—001020304050分 ～ のクラス\n \nお名前\n		 (必須)\n		\n \n\n \nメールアドレス\n		 (必須)\n		\n \n\n \nお電話番号（携帯可）\n		 (必須)\n		\n \n\n \nこちらのスタジオを何でお知りになりましたか？\n		 (必須)\n		\n \nチラシ看板書籍雑誌紹介Yahoo検索Google検索口コミその他Webサイト\n \nご関心があること、習得したいこと（複数可）\n \n肩こり腰痛の改善自然治癒力アップ集中力アップダイエット体質改善ストレス解消丹田強化呼吸法瞑想法その他\n \n備考欄\n \n\n \n\n\n \n\n Δ \n\n\n \n株式会社DAHN WORLD JAPAN　ダンワールドジャパン
URL:https://ilchibrainyoga-nishinomiya.com/event/%e8%85%b8%e3%81%a8%e8%84%b3%e3%82%a4%e3%82%ad%e3%82%a4%e3%82%ad%e4%bd%93%e9%a8%93%e4%bc%9a/
LOCATION:プレラにしのみや　6階　和室\, 西宮市高松町4－8
ATTACH;FMTTYPE=image/png:https://ilchibrainyoga-nishinomiya.com/wp-content/uploads/2024/10/3e36d413772de0e21e558e3527cf8963.png
END:VEVENT
BEGIN:VEVENT
DTSTART;TZID=Asia/Tokyo:20250515T153000
DTEND;TZID=Asia/Tokyo:20250515T170000
DTSTAMP:20260425T065449
CREATED:20250409T051552Z
LAST-MODIFIED:20250409T051608Z
UID:3782-1747323000-1747328400@ilchibrainyoga-nishinomiya.com
SUMMARY:かんたん腸元気ヨガ体験会
DESCRIPTION:誰にでもできて簡単な動きで体の巡りアップ ❣\n腸を整えて、脳を活性化し、季節の変わり目の\n春を元気に楽しく過ごしましょう！むずかしいポーズは\nありません。お気軽にご参加ください♪ \nこんな方にお勧め \n＊運動不足\n＊首、肩、腰が硬い\n＊柔軟性アップ\n＊健康維持\n＊集中力アップ \n◎老若男女OK\n◎体が硬くてもOK\n◎継続もできます \n●5月15日㈭15時30分～17時\n　　プレラにしのみや　6階　和室\n　　(阪急西宮北口駅 南西口徒歩1分、西宮市高松町4－8) \n●6月26日㈬　11時～16時 (イベント中数回ヨガします)\n　　カクチーナ　ケ　インカント(西宮市市庭町9-12香櫨館C棟、阪神 香櫨園駅徒歩3分)　　　 \n・参加費：1回　500円（要予約・複数参加可）\n・持ち物：動きやすい服装、飲み物、タオル \nイルチブレインヨガ西宮スタジオ\n☎ 0798-26-9580　担当：吉田・福山 \n\n・LINEからのお申し込みはこちら⇒https://lin.ee/oQ1yuZW \n・\n\n  \n\n\n\n\n\n \n体験ご希望日時\n		(必須)　※ご注意：月曜日は定休日です\n		\n \n—以下から選択してください—10111213141516171819時 —以下から選択してください—001020304050分 ～ のクラス\n \nお名前\n		 (必須)\n		\n \n\n \nメールアドレス\n		 (必須)\n		\n \n\n \nお電話番号（携帯可）\n		 (必須)\n		\n \n\n \nこちらのスタジオを何でお知りになりましたか？\n		 (必須)\n		\n \nチラシ看板書籍雑誌紹介Yahoo検索Google検索口コミその他Webサイト\n \nご関心があること、習得したいこと（複数可）\n \n肩こり腰痛の改善自然治癒力アップ集中力アップダイエット体質改善ストレス解消丹田強化呼吸法瞑想法その他\n \n備考欄\n \n\n \n\n\n \n\n Δ \n\n\n \n株式会社DAHN WORLD JAPAN　ダンワールドジャパン
URL:https://ilchibrainyoga-nishinomiya.com/event/nishinomiya-41/
LOCATION:プレラにしのみや　6階　和室\, 西宮市高松町4－8
ATTACH;FMTTYPE=image/png:https://ilchibrainyoga-nishinomiya.com/wp-content/uploads/2024/10/3e36d413772de0e21e558e3527cf8963.png
END:VEVENT
BEGIN:VEVENT
DTSTART;TZID=Asia/Tokyo:20250422T153000
DTEND;TZID=Asia/Tokyo:20250422T170000
DTSTAMP:20260425T065449
CREATED:20250409T051357Z
LAST-MODIFIED:20250409T051631Z
UID:3779-1745335800-1745341200@ilchibrainyoga-nishinomiya.com
SUMMARY:かんたん腸元気ヨガ体験会
DESCRIPTION:誰にでもできて簡単な動きで体の巡りアップ ❣\n腸を整えて、脳を活性化し、季節の変わり目の\n春を元気に楽しく過ごしましょう！むずかしいポーズは\nありません。お気軽にご参加ください♪ \nこんな方にお勧め \n＊運動不足\n＊首、肩、腰が硬い\n＊柔軟性アップ\n＊健康維持\n＊集中力アップ \n◎老若男女OK\n◎体が硬くてもOK\n◎継続もできます \n●4月22日㈫　●5月15日㈭15時30分～1７時\n　　プレラにしのみや　6階　和室\n　　(阪急西宮北口駅 南西口徒歩1分、西宮市高松町4－8) \n●6月26日㈬　11時～16時 (イベント中数回ヨガします)\n　　カクチーナ　ケ　インカント(西宮市市庭町9-12香櫨館C棟、阪神 香櫨園駅徒歩3分)　　　 \n・参加費：1回　500円（要予約・複数参加可）\n・持ち物：動きやすい服装、飲み物、タオル \nイルチブレインヨガ西宮スタジオ\n☎ 0798-26-9580　担当：吉田・福山 \n\n・LINEからのお申し込みはこちら⇒https://lin.ee/oQ1yuZW \n・\n\n  \n\n\n\n\n\n \n体験ご希望日時\n		(必須)　※ご注意：月曜日は定休日です\n		\n \n—以下から選択してください—10111213141516171819時 —以下から選択してください—001020304050分 ～ のクラス\n \nお名前\n		 (必須)\n		\n \n\n \nメールアドレス\n		 (必須)\n		\n \n\n \nお電話番号（携帯可）\n		 (必須)\n		\n \n\n \nこちらのスタジオを何でお知りになりましたか？\n		 (必須)\n		\n \nチラシ看板書籍雑誌紹介Yahoo検索Google検索口コミその他Webサイト\n \nご関心があること、習得したいこと（複数可）\n \n肩こり腰痛の改善自然治癒力アップ集中力アップダイエット体質改善ストレス解消丹田強化呼吸法瞑想法その他\n \n備考欄\n \n\n \n\n\n \n\n Δ \n\n\n \n株式会社DAHN WORLD JAPAN　ダンワールドジャパン
URL:https://ilchibrainyoga-nishinomiya.com/event/nishinomiya-40/
LOCATION:プレラにしのみや　6階　和室\, 西宮市高松町4－8
ATTACH;FMTTYPE=image/png:https://ilchibrainyoga-nishinomiya.com/wp-content/uploads/2024/10/3e36d413772de0e21e558e3527cf8963.png
END:VEVENT
BEGIN:VEVENT
DTSTART;VALUE=DATE:20250305
DTEND;VALUE=DATE:20250306
DTSTAMP:20260425T065449
CREATED:20250128T044650Z
LAST-MODIFIED:20250128T044650Z
UID:3677-1741132800-1741219199@ilchibrainyoga-nishinomiya.com
SUMMARY:⛄腸活&脳活性ヨガ体験会
DESCRIPTION:⛄誰にでもできて簡単な動きで体温アップ！ \n🌅お腹もぽかぽか！ \n腸を整えて、脳を活性化して寒い冬を元気に過ごしましょう！！ \n  \n◇内容\n体操\n呼吸法\nリラックス瞑想 \n  \n◇日時・場所\n１月26日㈰、14:15～15:15 \n学文公民館（2階和室）　学文殿町2-4-24 \n2月5日㈬、14:15～15:15 \n鳴尾東公民館（2階和室）　東鳴尾1-9-1 \n2月19日㈬、14:15～15:15 \n鳴尾公民館（3階和室）　鳴尾町1-8-2 \n3月5日㈬、　14:15～15:15 \n南甲子園公民館（2階和室）　甲子園九番町15-40 \n  \n◇参加費　1回　500円 \n  \n◇持ち物：動きやすい服装、タオル、お水 \n  \n◇担当：吉田あずさ、福山道子 \n  \n◇お問い合わせ・参加申し込み \nハッピーブレインクラブ西宮 \n・0798-26-9580\n※各公民館では問い合わせ受付けておりません。 \n  \n\n・LINEからのお申し込みはこちら⇒https://lin.ee/oQ1yuZW \n・\n\n  \n\n\n\n\n\n \n体験ご希望日時\n		(必須)　※ご注意：月曜日は定休日です\n		\n \n—以下から選択してください—10111213141516171819時 —以下から選択してください—001020304050分 ～ のクラス\n \nお名前\n		 (必須)\n		\n \n\n \nメールアドレス\n		 (必須)\n		\n \n\n \nお電話番号（携帯可）\n		 (必須)\n		\n \n\n \nこちらのスタジオを何でお知りになりましたか？\n		 (必須)\n		\n \nチラシ看板書籍雑誌紹介Yahoo検索Google検索口コミその他Webサイト\n \nご関心があること、習得したいこと（複数可）\n \n肩こり腰痛の改善自然治癒力アップ集中力アップダイエット体質改善ストレス解消丹田強化呼吸法瞑想法その他\n \n備考欄\n \n\n \n\n\n \n\n Δ \n\n\n \n株式会社DAHN WORLD JAPAN　ダンワールドジャパン
URL:https://ilchibrainyoga-nishinomiya.com/event/%e2%9b%84%e8%85%b8%e6%b4%bb%e8%84%b3%e6%b4%bb%e6%80%a7%e3%83%a8%e3%82%ac%e4%bd%93%e9%a8%93%e4%bc%9a-3/
LOCATION:南甲子園公民館\, 西宮市甲子園9番町\, -15-40\, 兵庫県\, 6620912\, Japan
ATTACH;FMTTYPE=image/jpeg:https://ilchibrainyoga-nishinomiya.com/wp-content/uploads/2025/01/d139c362ee74dece0915980f1214da7a.jpg
END:VEVENT
BEGIN:VEVENT
DTSTART;VALUE=DATE:20250219
DTEND;VALUE=DATE:20250220
DTSTAMP:20260425T065449
CREATED:20250128T044352Z
LAST-MODIFIED:20250128T044352Z
UID:3678-1739923200-1740009599@ilchibrainyoga-nishinomiya.com
SUMMARY:⛄腸活&脳活性ヨガ体験会
DESCRIPTION:⛄誰にでもできて簡単な動きで体温アップ！ \n🌅お腹もぽかぽか！ \n腸を整えて、脳を活性化して寒い冬を元気に過ごしましょう！！ \n  \n◇内容\n体操\n呼吸法\nリラックス瞑想 \n  \n◇日時・場所\n１月26日㈰、14:15～15:15 \n学文公民館（2階和室）　学文殿町2-4-24 \n2月5日㈬、14:15～15:15 \n鳴尾東公民館（2階和室）　東鳴尾1-9-1 \n2月19日㈬、14:15～15:15 \n鳴尾公民館（3階和室）　鳴尾町1-8-2 \n3月5日㈬、　14:15～15:15 \n南甲子園公民館（2階和室）　甲子園九番町15-40 \n  \n◇参加費　1回　500円 \n  \n◇持ち物：動きやすい服装、タオル、お水 \n  \n◇担当：吉田あずさ、福山道子 \n  \n◇お問い合わせ・参加申し込み \nハッピーブレインクラブ西宮 \n・0798-26-9580\n※各公民館では問い合わせ受付けておりません。 \n  \n\n・LINEからのお申し込みはこちら⇒https://lin.ee/oQ1yuZW \n・\n\n  \n\n\n\n\n\n \n体験ご希望日時\n		(必須)　※ご注意：月曜日は定休日です\n		\n \n—以下から選択してください—10111213141516171819時 —以下から選択してください—001020304050分 ～ のクラス\n \nお名前\n		 (必須)\n		\n \n\n \nメールアドレス\n		 (必須)\n		\n \n\n \nお電話番号（携帯可）\n		 (必須)\n		\n \n\n \nこちらのスタジオを何でお知りになりましたか？\n		 (必須)\n		\n \nチラシ看板書籍雑誌紹介Yahoo検索Google検索口コミその他Webサイト\n \nご関心があること、習得したいこと（複数可）\n \n肩こり腰痛の改善自然治癒力アップ集中力アップダイエット体質改善ストレス解消丹田強化呼吸法瞑想法その他\n \n備考欄\n \n\n \n\n\n \n\n Δ \n\n\n \n株式会社DAHN WORLD JAPAN　ダンワールドジャパン
URL:https://ilchibrainyoga-nishinomiya.com/event/%e2%9b%84%e8%85%b8%e6%b4%bb%e8%84%b3%e6%b4%bb%e6%80%a7%e3%83%a8%e3%82%ac%e4%bd%93%e9%a8%93%e4%bc%9a-2/
LOCATION:南甲子園公民館\, 西宮市甲子園9番町\, -15-40\, 兵庫県\, 6620912\, Japan
ATTACH;FMTTYPE=image/jpeg:https://ilchibrainyoga-nishinomiya.com/wp-content/uploads/2025/01/d139c362ee74dece0915980f1214da7a.jpg
END:VEVENT
BEGIN:VEVENT
DTSTART;VALUE=DATE:20250205
DTEND;VALUE=DATE:20250206
DTSTAMP:20260425T065449
CREATED:20250122T090639Z
LAST-MODIFIED:20250122T090744Z
UID:3679-1738713600-1738799999@ilchibrainyoga-nishinomiya.com
SUMMARY:⛄腸活&脳活性ヨガ体験会
DESCRIPTION:⛄誰にでもできて簡単な動きで体温アップ！ \n🌅お腹もぽかぽか！ \n腸を整えて、脳を活性化して寒い冬を元気に過ごしましょう！！ \n  \n◇内容\n体操\n呼吸法\nリラックス瞑想 \n  \n◇日時・場所\n１月26日㈰、14:15～15:15 \n学文公民館（2階和室）　学文殿町2-4-24 \n2月5日㈬、14:15～15:15 \n鳴尾東公民館（2階和室）　東鳴尾1-9-1 \n2月19日㈬、14:15～15:15 \n鳴尾公民館（3階和室）　鳴尾町1-8-2 \n3月5日㈬、　14:15～15:15 \n南甲子園公民館（2階和室）　甲子園九番町15-40 \n  \n◇参加費　1回　500円 \n  \n◇持ち物：動きやすい服装、タオル、お水 \n  \n◇担当：吉田あずさ、福山道子 \n  \n◇お問い合わせ・参加申し込み \nハッピーブレインクラブ西宮 \n・0798-26-9580\n※各公民館では問い合わせ受付けておりません。 \n  \n\n・LINEからのお申し込みはこちら⇒https://lin.ee/oQ1yuZW \n・\n\n  \n\n\n\n\n\n \n体験ご希望日時\n		(必須)　※ご注意：月曜日は定休日です\n		\n \n—以下から選択してください—10111213141516171819時 —以下から選択してください—001020304050分 ～ のクラス\n \nお名前\n		 (必須)\n		\n \n\n \nメールアドレス\n		 (必須)\n		\n \n\n \nお電話番号（携帯可）\n		 (必須)\n		\n \n\n \nこちらのスタジオを何でお知りになりましたか？\n		 (必須)\n		\n \nチラシ看板書籍雑誌紹介Yahoo検索Google検索口コミその他Webサイト\n \nご関心があること、習得したいこと（複数可）\n \n肩こり腰痛の改善自然治癒力アップ集中力アップダイエット体質改善ストレス解消丹田強化呼吸法瞑想法その他\n \n備考欄\n \n\n \n\n\n \n\n Δ \n\n\n \n株式会社DAHN WORLD JAPAN　ダンワールドジャパン
URL:https://ilchibrainyoga-nishinomiya.com/event/%e2%9b%84%e8%85%b8%e6%b4%bb%e8%84%b3%e6%b4%bb%e6%80%a7%e3%83%a8%e3%82%ac%e4%bd%93%e9%a8%93%e4%bc%9a/
LOCATION:南甲子園公民館\, 西宮市甲子園9番町\, -15-40\, 兵庫県\, 6620912\, Japan
ATTACH;FMTTYPE=image/jpeg:https://ilchibrainyoga-nishinomiya.com/wp-content/uploads/2025/01/d139c362ee74dece0915980f1214da7a.jpg
END:VEVENT
BEGIN:VEVENT
DTSTART;VALUE=DATE:20250126
DTEND;VALUE=DATE:20250127
DTSTAMP:20260425T065449
CREATED:20250122T085825Z
LAST-MODIFIED:20250122T090028Z
UID:3674-1737849600-1737935999@ilchibrainyoga-nishinomiya.com
SUMMARY:⛄腸活&脳活性ヨガ体験会
DESCRIPTION:⛄誰にでもできて簡単な動きで体温アップ！ \n🌅お腹もぽかぽか！ \n腸を整えて、脳を活性化して寒い冬を元気に過ごしましょう！！ \n  \n◇内容\n体操\n呼吸法\nリラックス瞑想 \n  \n◇日時・場所\n１月26日㈰、14:15～15:15 \n学文公民館（2階和室）　学文殿町2-4-24 \n2月5日㈬、14:15～15:15 \n鳴尾東公民館（2階和室）　東鳴尾1-9-1 \n2月19日㈬、14:15～15:15 \n鳴尾公民館（3階和室）　鳴尾町1-8-2 \n3月5日㈬、　14:15～15:15 \n南甲子園公民館（2階和室）　甲子園九番町15-40 \n  \n◇参加費　1回　500円 \n  \n◇持ち物：動きやすい服装、タオル、お水 \n  \n◇担当：吉田あずさ、福山道子 \n  \n◇お問い合わせ・参加申し込み \nハッピーブレインクラブ西宮 \n・0798-26-9580\n※各公民館では問い合わせ受付けておりません。 \n  \n\n・LINEからのお申し込みはこちら⇒https://lin.ee/oQ1yuZW \n・\n\n  \n\n\n\n\n\n \n体験ご希望日時\n		(必須)　※ご注意：月曜日は定休日です\n		\n \n—以下から選択してください—10111213141516171819時 —以下から選択してください—001020304050分 ～ のクラス\n \nお名前\n		 (必須)\n		\n \n\n \nメールアドレス\n		 (必須)\n		\n \n\n \nお電話番号（携帯可）\n		 (必須)\n		\n \n\n \nこちらのスタジオを何でお知りになりましたか？\n		 (必須)\n		\n \nチラシ看板書籍雑誌紹介Yahoo検索Google検索口コミその他Webサイト\n \nご関心があること、習得したいこと（複数可）\n \n肩こり腰痛の改善自然治癒力アップ集中力アップダイエット体質改善ストレス解消丹田強化呼吸法瞑想法その他\n \n備考欄\n \n\n \n\n\n \n\n Δ \n\n\n \n株式会社DAHN WORLD JAPAN　ダンワールドジャパン
URL:https://ilchibrainyoga-nishinomiya.com/event/%e8%85%b8%e6%b4%bb%e8%84%b3%e6%b4%bb%e6%80%a7%e3%83%a8%e3%82%ac%e4%bd%93%e9%a8%93%e4%bc%9a/
LOCATION:南甲子園公民館\, 西宮市甲子園9番町\, -15-40\, 兵庫県\, 6620912\, Japan
ATTACH;FMTTYPE=image/jpeg:https://ilchibrainyoga-nishinomiya.com/wp-content/uploads/2025/01/d139c362ee74dece0915980f1214da7a.jpg
END:VEVENT
END:VCALENDAR