BEGIN:VCALENDAR
VERSION:2.0
PRODID:-//イルチブレインヨガ西宮スタジオ - ECPv6.15.20//NONSGML v1.0//EN
CALSCALE:GREGORIAN
METHOD:PUBLISH
X-ORIGINAL-URL:https://ilchibrainyoga-nishinomiya.com
X-WR-CALDESC:イルチブレインヨガ西宮スタジオ のイベント
REFRESH-INTERVAL;VALUE=DURATION:PT1H
X-Robots-Tag:noindex
X-PUBLISHED-TTL:PT1H
BEGIN:VTIMEZONE
TZID:Asia/Tokyo
BEGIN:STANDARD
TZOFFSETFROM:+0900
TZOFFSETTO:+0900
TZNAME:JST
DTSTART:20240101T000000
END:STANDARD
END:VTIMEZONE
BEGIN:VEVENT
DTSTART;TZID=Asia/Tokyo:20250703T183000
DTEND;TZID=Asia/Tokyo:20250715T203000
DTSTAMP:20260424T125003
CREATED:20250702T062435Z
LAST-MODIFIED:20250715T061246Z
UID:3883-1751567400-1752611400@ilchibrainyoga-nishinomiya.com
SUMMARY:🌟Night Yoga体験会
DESCRIPTION:🌙その日の疲れはその日のうちに🌟🌟🌟\n身体の要の腸から全身をほぐしていき、身体と脳の疲れを流しましょう！めぐりの良い身体にして健康力を高めていきましょう！\nむずかしいポーズはありません。お気軽にご参加ください♪ \n🌅こんな方にお勧め \n＊仕事の疲れを取りたい\n＊リフレッシュ\n＊肩こり腰痛を緩和したい\n＊睡眠の質を上げたい\n＊集中力アップ\n＊瞑想呼吸を体得したい \n◎老若男女OK\n◎体が硬くてもOK\n◎継続もできます \n㈫～㈭　18：40～20：10 \n㈮　　　19：10～20：40\n※(土)(日)はありません。 \n・参加費：1回　1000円（要予約・複数参加可）\n・持ち物：動きやすい服装、飲み物、タオル \nイルチブレインヨガ西宮スタジオ\n☎ 0798-26-9580　担当：吉田・福山 \n\n・LINEからのお申し込みはこちら⇒https://lin.ee/oQ1yuZW \n・\n\n  \n\n\n\n\n\n \n体験ご希望日時\n		(必須)　※ご注意：月曜日は定休日です\n		\n \n—以下から選択してください—10111213141516171819時 —以下から選択してください—001020304050分 ～ のクラス\n \nお名前\n		 (必須)\n		\n \n\n \nメールアドレス\n		 (必須)\n		\n \n\n \nお電話番号（携帯可）\n		 (必須)\n		\n \n\n \nこちらのスタジオを何でお知りになりましたか？\n		 (必須)\n		\n \nチラシ看板書籍雑誌紹介Yahoo検索Google検索口コミその他Webサイト\n \nご関心があること、習得したいこと（複数可）\n \n肩こり腰痛の改善自然治癒力アップ集中力アップダイエット体質改善ストレス解消丹田強化呼吸法瞑想法その他\n \n備考欄\n \n\n \n\n\n \n\n Δ \n\n\n \n株式会社DAHN WORLD JAPAN　ダンワールドジャパン
URL:https://ilchibrainyoga-nishinomiya.com/event/night-yoga%e4%bd%93%e9%a8%93%e4%bc%9a/
LOCATION:イルチブレインヨガ西宮スタジオ\, 兵庫県西宮市松原町4-4 グランディールⅢ 5階\, 662-0912
ATTACH;FMTTYPE=image/jpeg:https://ilchibrainyoga-nishinomiya.com/wp-content/uploads/2025/07/night-yoga.jpg
END:VEVENT
END:VCALENDAR