BEGIN:VCALENDAR
VERSION:2.0
PRODID:-//イルチブレインヨガ西宮スタジオ - ECPv6.15.20//NONSGML v1.0//EN
CALSCALE:GREGORIAN
METHOD:PUBLISH
X-WR-CALNAME:イルチブレインヨガ西宮スタジオ
X-ORIGINAL-URL:https://ilchibrainyoga-nishinomiya.com
X-WR-CALDESC:イルチブレインヨガ西宮スタジオ のイベント
REFRESH-INTERVAL;VALUE=DURATION:PT1H
X-Robots-Tag:noindex
X-PUBLISHED-TTL:PT1H
BEGIN:VTIMEZONE
TZID:Asia/Tokyo
BEGIN:STANDARD
TZOFFSETFROM:+0900
TZOFFSETTO:+0900
TZNAME:JST
DTSTART:20250101T000000
END:STANDARD
END:VTIMEZONE
BEGIN:VEVENT
DTSTART;VALUE=DATE:20260131
DTEND;VALUE=DATE:20260201
DTSTAMP:20260424T142138
CREATED:20260120T073811Z
LAST-MODIFIED:20260121T030725Z
UID:4441-1769817600-1769903999@ilchibrainyoga-nishinomiya.com
SUMMARY:💻オンライン無料体験会
DESCRIPTION:１月今年も新しいチャレンジをしましょう！\n💖 体験していくと… \n\n体と心がほぐれる\n頭がスッキリする→集中力が高まる\n自分軸が整ってくる\nセルフヒーリングの感覚がついてくる\nお腹や身体が温まる\n\n\n🌟体験コース：トレーニング４０分＋ ご説明とミニカウンセリング２０分\n🕙 開催日時：1月\n21(水)14:00～15:00\n22(木)14:00～15:00、20:00～21:00\n23(金)14:00～15:00\n27(火)14:00～15:00\n28(水)14:00～15:00、20:00～21:00\n29(木)14:00～15:00、20:00～21:00 \n💰 参加費：1回 ０円（要予約）\n🎒 動きやすい服装でご参加ください。 \n\n📍Zoom URLはお申し込み後お送りいたします。\nイルチブレインヨガ西宮スタジオ\n（JR西宮駅 南へ徒歩３分／西宮市松原町4-4 5階）\n☎ 0798-26-9580　担当：吉田・福山 \n\n✅お申し込みはこちら\n「オンライン無料体験」と明記ください！\n\nLINE ⇒ https://lin.ee/oQ1yuZW\n ホームページ申込み ⇒https://ilchibrainyoga-nishinomiya.com/yoyaku/
URL:https://ilchibrainyoga-nishinomiya.com/event/%f0%9f%92%bb%e3%82%aa%e3%83%b3%e3%83%a9%e3%82%a4%e3%83%b3%e7%84%a1%e6%96%99%e4%bd%93%e9%a8%93%e4%bc%9a/
LOCATION:イルチブレインヨガ西宮スタジオ
ATTACH;FMTTYPE=image/png:https://ilchibrainyoga-nishinomiya.com/wp-content/uploads/2023/10/studio_online_S-300x126-2.png
END:VEVENT
END:VCALENDAR