BEGIN:VCALENDAR
VERSION:2.0
PRODID:-//イルチブレインヨガ西宮スタジオ - ECPv6.15.20//NONSGML v1.0//EN
CALSCALE:GREGORIAN
METHOD:PUBLISH
X-WR-CALNAME:イルチブレインヨガ西宮スタジオ
X-ORIGINAL-URL:https://ilchibrainyoga-nishinomiya.com
X-WR-CALDESC:イルチブレインヨガ西宮スタジオ のイベント
REFRESH-INTERVAL;VALUE=DURATION:PT1H
X-Robots-Tag:noindex
X-PUBLISHED-TTL:PT1H
BEGIN:VTIMEZONE
TZID:Asia/Tokyo
BEGIN:STANDARD
TZOFFSETFROM:+0900
TZOFFSETTO:+0900
TZNAME:JST
DTSTART:20230101T000000
END:STANDARD
END:VTIMEZONE
BEGIN:VEVENT
DTSTART;VALUE=DATE:20251125
DTEND;VALUE=DATE:20251201
DTSTAMP:20260424T121834
CREATED:20251113T015453Z
LAST-MODIFIED:20251113T015825Z
UID:4326-1764028800-1764547199@ilchibrainyoga-nishinomiya.com
SUMMARY:💕ペア割キャンペーン💕
DESCRIPTION:秋です🍁身体を動かして健康・幸せを自ら掴みましょう🌟🌟\n\n\n\nお友達、ご家族、カップル、知人などなど。\nお二人で体験いただけると、体験費がなんと　2人で1000円！！ \n期間：11/30(日)まで！好評につき延長～！ \n更に⭐️入会金\n5000円→無料(当日入会) \n少しでも気になる方は、この機会をご利用くださいませ。 \n  \n\n～こんな方にお勧め💛\n＊新しい体験をしたい\n＊筋力をアップ\n＊柔軟性アップ\n＊楽しく毎日を過ごしたい \n◎老若男女OK\n◎体が硬くてもOK\n◎継続もできます \n  \n・内容：トレーニング90分＋腸ほぐし10分 \n10時10分～11時40分、14時10分～15時40分、18時40分～20時10分 \n・参加費：二人で　1000円（要予約）\n・持ち物：動きやすい服、飲み物、タオル \n  \nイルチブレインヨガ西宮スタジオ\n(JR西宮駅 南へ徒歩３分、西宮市松原町４－４、５階)\n☎ 0798-26-9580　担当：吉田・福山 \n\n・LINEからのお申し込みはこちら⇒https://lin.ee/oQ1yuZW \n・\n\n  \n\n\n\n\n\n \n体験ご希望日時\n		(必須)　※ご注意：月曜日は定休日です\n		\n \n—以下から選択してください—10111213141516171819時 —以下から選択してください—001020304050分 ～ のクラス\n \nお名前\n		 (必須)\n		\n \n\n \nメールアドレス\n		 (必須)\n		\n \n\n \nお電話番号（携帯可）\n		 (必須)\n		\n \n\n \nこちらのスタジオを何でお知りになりましたか？\n		 (必須)\n		\n \nチラシ看板書籍雑誌紹介Yahoo検索Google検索口コミその他Webサイト\n \nご関心があること、習得したいこと（複数可）\n \n肩こり腰痛の改善自然治癒力アップ集中力アップダイエット体質改善ストレス解消丹田強化呼吸法瞑想法その他\n \n備考欄\n \n\n \n\n\n \n\n Δ \n\n\n \n株式会社DAHN WORLD JAPAN　ダンワールドジャパン
URL:https://ilchibrainyoga-nishinomiya.com/event/%f0%9f%92%95%e3%83%9a%e3%82%a2%e5%89%b2%e3%82%ad%e3%83%a3%e3%83%b3%e3%83%9a%e3%83%bc%e3%83%b3%f0%9f%92%95-3/
LOCATION:イルチブレインヨガ西宮スタジオ
ATTACH;FMTTYPE=image/jpeg:https://ilchibrainyoga-nishinomiya.com/wp-content/uploads/2025/11/75e71b65fd9ebf1301254d5454927c5b-e1762913811855.jpg
END:VEVENT
BEGIN:VEVENT
DTSTART;VALUE=DATE:20251125
DTEND;VALUE=DATE:20251128
DTSTAMP:20260424T121834
CREATED:20251016T055724Z
LAST-MODIFIED:20251016T055724Z
UID:4274-1764028800-1764287999@ilchibrainyoga-nishinomiya.com
SUMMARY:スペシャルダイエット体験会💛
DESCRIPTION:🍁楽しく振るだけダイエット！ \nみんな一緒だから最後まで頑張れますようよ👌\nゆっくり伸ばしたり、回したり、タッピングしたり、筋トレだけがダイエットではありません😃 \n動いて呼吸してリラックスすると体の巡りがよくなり、汗もかいてデトックスが良くできます。 \n楽しく続けて素敵な変化をおこしましょう🍇🍎🌰 \n  \n～こんな方にお勧💛\n＊ダイエット\n＊筋力をアップ\n＊柔軟性アップ\n＊姿勢を整えたい \n◎老若男女OK\n◎体が硬くてもOK\n◎継続もできます \n  \n●ダイエットコース！！ \n体験コース：トレーニング90分+デトックス腸ほぐし10分\n１１月\n4(火） 5(水）6(木)\n11(火）12(水）13(木)\n18(火) 19(水）20(木)\n25(火)   26(水) 27(木) \n10時10分～11時40分、14時10分～15時40分、18時40分～20時10分 \n  \n・参加費：1回　1000円（要予約）\n・持ち物：動きやすい服、飲み物、タオル \n  \nイルチブレインヨガ西宮スタジオ\n(JR西宮駅 南へ徒歩３分、西宮市松原町４－４、５階)\n☎ 0798-26-9580　担当：吉田・福山 \n\n・LINEからのお申し込みはこちら⇒https://lin.ee/oQ1yuZW \n・\n\n  \n\n\n\n\n\n \n体験ご希望日時\n		(必須)　※ご注意：月曜日は定休日です\n		\n \n—以下から選択してください—10111213141516171819時 —以下から選択してください—001020304050分 ～ のクラス\n \nお名前\n		 (必須)\n		\n \n\n \nメールアドレス\n		 (必須)\n		\n \n\n \nお電話番号（携帯可）\n		 (必須)\n		\n \n\n \nこちらのスタジオを何でお知りになりましたか？\n		 (必須)\n		\n \nチラシ看板書籍雑誌紹介Yahoo検索Google検索口コミその他Webサイト\n \nご関心があること、習得したいこと（複数可）\n \n肩こり腰痛の改善自然治癒力アップ集中力アップダイエット体質改善ストレス解消丹田強化呼吸法瞑想法その他\n \n備考欄\n \n\n \n\n\n \n\n Δ \n\n\n \n株式会社DAHN WORLD JAPAN　ダンワールドジャパン
URL:https://ilchibrainyoga-nishinomiya.com/event/%e3%82%b9%e3%83%9a%e3%82%b7%e3%83%a3%e3%83%ab%e3%83%80%e3%82%a4%e3%82%a8%e3%83%83%e3%83%88%e4%bd%93%e9%a8%93%e4%bc%9a%f0%9f%92%9b-4/
LOCATION:イルチブレインヨガ西宮スタジオ
ATTACH;FMTTYPE=image/jpeg:https://ilchibrainyoga-nishinomiya.com/wp-content/uploads/2025/10/632b1a665a19657800327c741730f2b5.jpg
END:VEVENT
BEGIN:VEVENT
DTSTART;VALUE=DATE:20251118
DTEND;VALUE=DATE:20251124
DTSTAMP:20260424T121834
CREATED:20251112T022005Z
LAST-MODIFIED:20251113T015906Z
UID:4321-1763424000-1763942399@ilchibrainyoga-nishinomiya.com
SUMMARY:💕ペア割キャンペーン💕
DESCRIPTION:秋です🍁身体を動かして健康・幸せを自ら掴みましょう🌟🌟\n\n\n\nお友達、ご家族、カップル、知人などなど。\nお二人で体験いただけると、体験費がなんと　2人で1000円！！ \n期間：11/30(日)まで！好評につき延長～！ \n更に⭐️入会金\n5000円→無料(当日入会) \n少しでも気になる方は、この機会をご利用くださいませ。 \n  \n\n～こんな方にお勧め💛\n＊新しい体験をしたい\n＊筋力をアップ\n＊柔軟性アップ\n＊楽しく毎日を過ごしたい \n◎老若男女OK\n◎体が硬くてもOK\n◎継続もできます \n  \n・内容：トレーニング90分＋腸ほぐし10分 \n10時10分～11時40分、14時10分～15時40分、18時40分～20時10分 \n・参加費：二人で　1000円（要予約）\n・持ち物：動きやすい服、飲み物、タオル \n  \nイルチブレインヨガ西宮スタジオ\n(JR西宮駅 南へ徒歩３分、西宮市松原町４－４、５階)\n☎ 0798-26-9580　担当：吉田・福山 \n\n・LINEからのお申し込みはこちら⇒https://lin.ee/oQ1yuZW \n・\n\n  \n\n\n\n\n\n \n体験ご希望日時\n		(必須)　※ご注意：月曜日は定休日です\n		\n \n—以下から選択してください—10111213141516171819時 —以下から選択してください—001020304050分 ～ のクラス\n \nお名前\n		 (必須)\n		\n \n\n \nメールアドレス\n		 (必須)\n		\n \n\n \nお電話番号（携帯可）\n		 (必須)\n		\n \n\n \nこちらのスタジオを何でお知りになりましたか？\n		 (必須)\n		\n \nチラシ看板書籍雑誌紹介Yahoo検索Google検索口コミその他Webサイト\n \nご関心があること、習得したいこと（複数可）\n \n肩こり腰痛の改善自然治癒力アップ集中力アップダイエット体質改善ストレス解消丹田強化呼吸法瞑想法その他\n \n備考欄\n \n\n \n\n\n \n\n Δ \n\n\n \n株式会社DAHN WORLD JAPAN　ダンワールドジャパン
URL:https://ilchibrainyoga-nishinomiya.com/event/%f0%9f%92%95%e3%83%9a%e3%82%a2%e5%89%b2%e3%82%ad%e3%83%a3%e3%83%b3%e3%83%9a%e3%83%bc%e3%83%b3%f0%9f%92%95-2/
LOCATION:イルチブレインヨガ西宮スタジオ
ATTACH;FMTTYPE=image/jpeg:https://ilchibrainyoga-nishinomiya.com/wp-content/uploads/2025/11/75e71b65fd9ebf1301254d5454927c5b-e1762913811855.jpg
END:VEVENT
BEGIN:VEVENT
DTSTART;VALUE=DATE:20251118
DTEND;VALUE=DATE:20251121
DTSTAMP:20260424T121834
CREATED:20251016T055657Z
LAST-MODIFIED:20251016T055657Z
UID:4273-1763424000-1763683199@ilchibrainyoga-nishinomiya.com
SUMMARY:スペシャルダイエット体験会💛
DESCRIPTION:🍁楽しく振るだけダイエット！ \nみんな一緒だから最後まで頑張れますようよ👌\nゆっくり伸ばしたり、回したり、タッピングしたり、筋トレだけがダイエットではありません😃 \n動いて呼吸してリラックスすると体の巡りがよくなり、汗もかいてデトックスが良くできます。 \n楽しく続けて素敵な変化をおこしましょう🍇🍎🌰 \n  \n～こんな方にお勧💛\n＊ダイエット\n＊筋力をアップ\n＊柔軟性アップ\n＊姿勢を整えたい \n◎老若男女OK\n◎体が硬くてもOK\n◎継続もできます \n  \n●ダイエットコース！！ \n体験コース：トレーニング90分+デトックス腸ほぐし10分\n１１月\n4(火） 5(水）6(木)\n11(火）12(水）13(木)\n18(火) 19(水）20(木)\n25(火)   26(水) 27(木) \n10時10分～11時40分、14時10分～15時40分、18時40分～20時10分 \n  \n・参加費：1回　1000円（要予約）\n・持ち物：動きやすい服、飲み物、タオル \n  \nイルチブレインヨガ西宮スタジオ\n(JR西宮駅 南へ徒歩３分、西宮市松原町４－４、５階)\n☎ 0798-26-9580　担当：吉田・福山 \n\n・LINEからのお申し込みはこちら⇒https://lin.ee/oQ1yuZW \n・\n\n  \n\n\n\n\n\n \n体験ご希望日時\n		(必須)　※ご注意：月曜日は定休日です\n		\n \n—以下から選択してください—10111213141516171819時 —以下から選択してください—001020304050分 ～ のクラス\n \nお名前\n		 (必須)\n		\n \n\n \nメールアドレス\n		 (必須)\n		\n \n\n \nお電話番号（携帯可）\n		 (必須)\n		\n \n\n \nこちらのスタジオを何でお知りになりましたか？\n		 (必須)\n		\n \nチラシ看板書籍雑誌紹介Yahoo検索Google検索口コミその他Webサイト\n \nご関心があること、習得したいこと（複数可）\n \n肩こり腰痛の改善自然治癒力アップ集中力アップダイエット体質改善ストレス解消丹田強化呼吸法瞑想法その他\n \n備考欄\n \n\n \n\n\n \n\n Δ \n\n\n \n株式会社DAHN WORLD JAPAN　ダンワールドジャパン
URL:https://ilchibrainyoga-nishinomiya.com/event/%e3%82%b9%e3%83%9a%e3%82%b7%e3%83%a3%e3%83%ab%e3%83%80%e3%82%a4%e3%82%a8%e3%83%83%e3%83%88%e4%bd%93%e9%a8%93%e4%bc%9a%f0%9f%92%9b-3/
LOCATION:イルチブレインヨガ西宮スタジオ
ATTACH;FMTTYPE=image/jpeg:https://ilchibrainyoga-nishinomiya.com/wp-content/uploads/2025/10/632b1a665a19657800327c741730f2b5.jpg
END:VEVENT
BEGIN:VEVENT
DTSTART;VALUE=DATE:20251112
DTEND;VALUE=DATE:20251117
DTSTAMP:20260424T121834
CREATED:20251112T021713Z
LAST-MODIFIED:20251113T015944Z
UID:4318-1762905600-1763337599@ilchibrainyoga-nishinomiya.com
SUMMARY:💕ペア割キャンペーン💕
DESCRIPTION:秋です🍁身体を動かして健康・幸せを自ら掴みましょう🌟🌟\n\n\n\nお友達、ご家族、カップル、知人などなど。\nお二人で体験いただけると、体験費がなんと　2人で1000円！！ \n期間：11/30(日)まで！好評につき延長～！ \n更に⭐️入会金\n5000円→無料(当日入会) \n少しでも気になる方は、この機会をご利用くださいませ。 \n  \n\n～こんな方にお勧め💛\n＊新しい体験をしたい\n＊筋力をアップ\n＊柔軟性アップ\n＊楽しく毎日を過ごしたい \n◎老若男女OK\n◎体が硬くてもOK\n◎継続もできます \n  \n・内容：トレーニング90分＋腸ほぐし10分 \n10時10分～11時40分、14時10分～15時40分、18時40分～20時10分 \n・参加費：二人で　1000円（要予約）\n・持ち物：動きやすい服、飲み物、タオル \n  \nイルチブレインヨガ西宮スタジオ\n(JR西宮駅 南へ徒歩３分、西宮市松原町４－４、５階)\n☎ 0798-26-9580　担当：吉田・福山 \n\n・LINEからのお申し込みはこちら⇒https://lin.ee/oQ1yuZW \n・\n\n  \n\n\n\n\n\n \n体験ご希望日時\n		(必須)　※ご注意：月曜日は定休日です\n		\n \n—以下から選択してください—10111213141516171819時 —以下から選択してください—001020304050分 ～ のクラス\n \nお名前\n		 (必須)\n		\n \n\n \nメールアドレス\n		 (必須)\n		\n \n\n \nお電話番号（携帯可）\n		 (必須)\n		\n \n\n \nこちらのスタジオを何でお知りになりましたか？\n		 (必須)\n		\n \nチラシ看板書籍雑誌紹介Yahoo検索Google検索口コミその他Webサイト\n \nご関心があること、習得したいこと（複数可）\n \n肩こり腰痛の改善自然治癒力アップ集中力アップダイエット体質改善ストレス解消丹田強化呼吸法瞑想法その他\n \n備考欄\n \n\n \n\n\n \n\n Δ \n\n\n \n株式会社DAHN WORLD JAPAN　ダンワールドジャパン
URL:https://ilchibrainyoga-nishinomiya.com/event/%f0%9f%92%95%e3%83%9a%e3%82%a2%e5%89%b2%e3%82%ad%e3%83%a3%e3%83%b3%e3%83%9a%e3%83%bc%e3%83%b3%f0%9f%92%95/
LOCATION:イルチブレインヨガ西宮スタジオ
ATTACH;FMTTYPE=image/jpeg:https://ilchibrainyoga-nishinomiya.com/wp-content/uploads/2025/11/75e71b65fd9ebf1301254d5454927c5b-e1762913811855.jpg
END:VEVENT
BEGIN:VEVENT
DTSTART;VALUE=DATE:20251111
DTEND;VALUE=DATE:20251114
DTSTAMP:20260424T121834
CREATED:20251016T055623Z
LAST-MODIFIED:20251016T055623Z
UID:4272-1762819200-1763078399@ilchibrainyoga-nishinomiya.com
SUMMARY:スペシャルダイエット体験会💛
DESCRIPTION:🍁楽しく振るだけダイエット！ \nみんな一緒だから最後まで頑張れますようよ👌\nゆっくり伸ばしたり、回したり、タッピングしたり、筋トレだけがダイエットではありません😃 \n動いて呼吸してリラックスすると体の巡りがよくなり、汗もかいてデトックスが良くできます。 \n楽しく続けて素敵な変化をおこしましょう🍇🍎🌰 \n  \n～こんな方にお勧💛\n＊ダイエット\n＊筋力をアップ\n＊柔軟性アップ\n＊姿勢を整えたい \n◎老若男女OK\n◎体が硬くてもOK\n◎継続もできます \n  \n●ダイエットコース！！ \n体験コース：トレーニング90分+デトックス腸ほぐし10分\n１１月\n4(火） 5(水）6(木)\n11(火）12(水）13(木)\n18(火) 19(水）20(木)\n25(火)   26(水) 27(木) \n10時10分～11時40分、14時10分～15時40分、18時40分～20時10分 \n  \n・参加費：1回　1000円（要予約）\n・持ち物：動きやすい服、飲み物、タオル \n  \nイルチブレインヨガ西宮スタジオ\n(JR西宮駅 南へ徒歩３分、西宮市松原町４－４、５階)\n☎ 0798-26-9580　担当：吉田・福山 \n\n・LINEからのお申し込みはこちら⇒https://lin.ee/oQ1yuZW \n・\n\n  \n\n\n\n\n\n \n体験ご希望日時\n		(必須)　※ご注意：月曜日は定休日です\n		\n \n—以下から選択してください—10111213141516171819時 —以下から選択してください—001020304050分 ～ のクラス\n \nお名前\n		 (必須)\n		\n \n\n \nメールアドレス\n		 (必須)\n		\n \n\n \nお電話番号（携帯可）\n		 (必須)\n		\n \n\n \nこちらのスタジオを何でお知りになりましたか？\n		 (必須)\n		\n \nチラシ看板書籍雑誌紹介Yahoo検索Google検索口コミその他Webサイト\n \nご関心があること、習得したいこと（複数可）\n \n肩こり腰痛の改善自然治癒力アップ集中力アップダイエット体質改善ストレス解消丹田強化呼吸法瞑想法その他\n \n備考欄\n \n\n \n\n\n \n\n Δ \n\n\n \n株式会社DAHN WORLD JAPAN　ダンワールドジャパン
URL:https://ilchibrainyoga-nishinomiya.com/event/%e3%82%b9%e3%83%9a%e3%82%b7%e3%83%a3%e3%83%ab%e3%83%80%e3%82%a4%e3%82%a8%e3%83%83%e3%83%88%e4%bd%93%e9%a8%93%e4%bc%9a%f0%9f%92%9b-2/
LOCATION:イルチブレインヨガ西宮スタジオ
ATTACH;FMTTYPE=image/jpeg:https://ilchibrainyoga-nishinomiya.com/wp-content/uploads/2025/10/632b1a665a19657800327c741730f2b5.jpg
END:VEVENT
BEGIN:VEVENT
DTSTART;VALUE=DATE:20251104
DTEND;VALUE=DATE:20251107
DTSTAMP:20260424T121834
CREATED:20251016T055457Z
LAST-MODIFIED:20251016T055457Z
UID:4269-1762214400-1762473599@ilchibrainyoga-nishinomiya.com
SUMMARY:スペシャルダイエット体験会💛
DESCRIPTION:🍁楽しく振るだけダイエット！ \nみんな一緒だから最後まで頑張れますようよ👌\nゆっくり伸ばしたり、回したり、タッピングしたり、筋トレだけがダイエットではありません😃 \n動いて呼吸してリラックスすると体の巡りがよくなり、汗もかいてデトックスが良くできます。 \n楽しく続けて素敵な変化をおこしましょう🍇🍎🌰 \n  \n～こんな方にお勧💛\n＊ダイエット\n＊筋力をアップ\n＊柔軟性アップ\n＊姿勢を整えたい \n◎老若男女OK\n◎体が硬くてもOK\n◎継続もできます \n  \n●ダイエットコース！！ \n体験コース：トレーニング90分+デトックス腸ほぐし10分\n１１月\n4(火） 5(水）6(木)\n11(火）12(水）13(木)\n18(火) 19(水）20(木)\n25(火)   26(水) 27(木) \n10時10分～11時40分、14時10分～15時40分、18時40分～20時10分 \n  \n・参加費：1回　1000円（要予約）\n・持ち物：動きやすい服、飲み物、タオル \n  \nイルチブレインヨガ西宮スタジオ\n(JR西宮駅 南へ徒歩３分、西宮市松原町４－４、５階)\n☎ 0798-26-9580　担当：吉田・福山 \n\n・LINEからのお申し込みはこちら⇒https://lin.ee/oQ1yuZW \n・\n\n  \n\n\n\n\n\n \n体験ご希望日時\n		(必須)　※ご注意：月曜日は定休日です\n		\n \n—以下から選択してください—10111213141516171819時 —以下から選択してください—001020304050分 ～ のクラス\n \nお名前\n		 (必須)\n		\n \n\n \nメールアドレス\n		 (必須)\n		\n \n\n \nお電話番号（携帯可）\n		 (必須)\n		\n \n\n \nこちらのスタジオを何でお知りになりましたか？\n		 (必須)\n		\n \nチラシ看板書籍雑誌紹介Yahoo検索Google検索口コミその他Webサイト\n \nご関心があること、習得したいこと（複数可）\n \n肩こり腰痛の改善自然治癒力アップ集中力アップダイエット体質改善ストレス解消丹田強化呼吸法瞑想法その他\n \n備考欄\n \n\n \n\n\n \n\n Δ \n\n\n \n株式会社DAHN WORLD JAPAN　ダンワールドジャパン
URL:https://ilchibrainyoga-nishinomiya.com/event/%e3%82%b9%e3%83%9a%e3%82%b7%e3%83%a3%e3%83%ab%e3%83%80%e3%82%a4%e3%82%a8%e3%83%83%e3%83%88%e4%bd%93%e9%a8%93%e4%bc%9a%f0%9f%92%9b/
LOCATION:イルチブレインヨガ西宮スタジオ
ATTACH;FMTTYPE=image/jpeg:https://ilchibrainyoga-nishinomiya.com/wp-content/uploads/2025/10/632b1a665a19657800327c741730f2b5.jpg
END:VEVENT
BEGIN:VEVENT
DTSTART;TZID=Asia/Tokyo:20250420T090000
DTEND;TZID=Asia/Tokyo:20250420T120000
DTSTAMP:20260424T121834
CREATED:20250304T024318Z
LAST-MODIFIED:20250410T071013Z
UID:3730-1745139600-1745150400@ilchibrainyoga-nishinomiya.com
SUMMARY:🌎Earth Run 2025 クリーンアップ・ウォークで地球のこと考えよう🍀
DESCRIPTION:🌎アースデイにちなんで、西宮市で地球のことを考えたり、地球を踏みしめて歩いたり、ゴミ拾いをして私たちの地球をきれいにしましょう！\n阪神今津駅から甲子園浜まで歩いて、各ポイントでクイズやアクションでスタンプを貯めて、甲子園浜で地球をきれいにしましょう🌟🌟🌟\n  \n※アースデイには、代表も規則もありません。民族・国籍・信条・政党・宗派をこえて、だれもが自由にその人の方法で、地球環境を守る意思表示をする国際連帯行動です。 \n  \n参加費：無料 \n日時：2025年4月20日㈰　9時から12時　現地自由解散 \n集合：阪神 今津駅 1階北側広場 \n東三公園を経て、西宮灯台の横を通り、甲子園浜でゴミ拾い、その後地球を考える話をお聞きします。 \n  \n持ち物：飲み物、タオル、半透明ビニール袋、トング、軍手など\n※動きやすい服装と歩きやすい靴でご参加ください。 \n  \n一般社団法人eco主催のEarth Run (アースラン)に協賛店である当スタジオからも参加いたします。 \n  \n主催：（一般社団法人）Earch Citizens Organizationアース シチズン オーガニゼーション \n・⇩LINEからのお申し込みはこちら https://lin.ee/zmao6Xg \n \n申し込み団体：アースラン２０２５兵庫\n090-7359-4468（受付時間9−21時）
URL:https://ilchibrainyoga-nishinomiya.com/event/%f0%9f%8c%8eearth-run-2025-%e3%82%af%e3%83%aa%e3%83%bc%e3%83%b3%e3%82%a2%e3%83%83%e3%83%97%e3%83%bb%e3%82%a6%e3%82%a9%e3%83%bc%e3%82%af%e3%81%a7%e5%9c%b0%e7%90%83%e3%81%ae%e3%81%93%e3%81%a8%e8%80%83/
ATTACH;FMTTYPE=image/jpeg:https://ilchibrainyoga-nishinomiya.com/wp-content/uploads/2025/03/earth-day.jpg
END:VEVENT
BEGIN:VEVENT
DTSTART;TZID=Asia/Tokyo:20250226T100000
DTEND;TZID=Asia/Tokyo:20250330T160000
DTSTAMP:20260424T121834
CREATED:20250326T024309Z
LAST-MODIFIED:20250326T024309Z
UID:3759-1740564000-1743350400@ilchibrainyoga-nishinomiya.com
SUMMARY:いきいき新生活体験会🌟
DESCRIPTION:腸と脳の新感覚エクササイズ\n  \n内容：ストレッチ&体操、丹田体幹強化、呼吸法、瞑想、気功など \n体験費：１０００円／回 \n期間：２０２５年４月３０日まで \n持ち物：飲み物、動きやすい服装 \n体験時間：\n(火)〜(木)　10:00～11:40、14:00〜15:40、18:30～20:00 \n(金)　　　   10:00～11:40、14:00〜15:40、19:00～21:40 \n(土)(日)　　10:00～11:40、14:00～15:40 \n  \n🎁体験後に【腸もみ】 プレゼント🌟 \n  \n🌟こんな方におすすめ\n体幹アップ😀\n集中力アップ🔥\n美腸・美肌✨\nリラックス🍀\nダイエット😊\n潜在能力アップ🤩 \n  \nイルチブレインヨガ 西宮スタジオ\n0798-26-9580\n（営業時間9−21時）(月)定休日 \n・LINEからのお申し込みはこちら⇒https://lin.ee/oQ1yuZW
URL:https://ilchibrainyoga-nishinomiya.com/event/%e3%81%84%e3%81%8d%e3%81%84%e3%81%8d%e6%96%b0%e7%94%9f%e6%b4%bb%e4%bd%93%e9%a8%93%e4%bc%9a%f0%9f%8c%9f/
LOCATION:イルチブレインヨガ西宮スタジオ\, 兵庫県西宮市松原町4-4 グランディールⅢ 5階\, 662-0912
ATTACH;FMTTYPE=image/jpeg:https://ilchibrainyoga-nishinomiya.com/wp-content/uploads/2025/03/hana.jpg
END:VEVENT
BEGIN:VEVENT
DTSTART;TZID=Asia/Tokyo:20250226T100000
DTEND;TZID=Asia/Tokyo:20250330T160000
DTSTAMP:20260424T121834
CREATED:20250226T020743Z
LAST-MODIFIED:20250226T125305Z
UID:3712-1740564000-1743350400@ilchibrainyoga-nishinomiya.com
SUMMARY:ホワイトデー♡キャンペーン ２回体験会！
DESCRIPTION:腸と脳の新感覚エクササイズ\n  \n内容：ストレッチ&体操、丹田体幹強化、呼吸法、瞑想、気功など \n体験費：１５００円／２回 \n期間：２０２５年３月３０日まで \n持ち物：飲み物、動きやすい服装 \n体験時間：\n(火)〜(木)　10:00～11:40、14:00〜15:40、18:30～20:00 \n(金)　　　   10:00～11:40、14:00〜15:40、19:00～21:40 \n(土)(日)　　10:00～11:40、14:00～15:40 \n  \n🎁「自律神経のバランス」チェックとカウンセリング プレゼント🌟 \n  \n🌟こんな方におすすめ\n体質改善したい🌸🌲\n首、肩、腰が硬い😅\n運動不足🏃‍♀️\n柔軟性アップ🙆‍♀️\nメンタル強化😊\n潜在能力開発🤩 \n  \nイルチブレインヨガ 西宮スタジオ\n0798-26-9580\n（営業時間9−21時）(月)定休日 \n・LINEからのお申し込みはこちら⇒https://lin.ee/oQ1yuZW
URL:https://ilchibrainyoga-nishinomiya.com/event/%e3%83%9b%e3%83%af%e3%82%a4%e3%83%88%e3%83%87%e3%83%bc%e2%99%a1%e3%82%ad%e3%83%a3%e3%83%b3%e3%83%9a%e3%83%bc%e3%83%b3-%ef%bc%92%e5%9b%9e%e4%bd%93%e9%a8%93%e4%bc%9a%ef%bc%81/
LOCATION:イルチブレインヨガ西宮スタジオ\, 兵庫県西宮市松原町4-4 グランディールⅢ 5階\, 662-0912
ATTACH;FMTTYPE=image/jpeg:https://ilchibrainyoga-nishinomiya.com/wp-content/uploads/2025/02/202503.jpg
END:VEVENT
BEGIN:VEVENT
DTSTART;TZID=Asia/Tokyo:20241219T100000
DTEND;TZID=Asia/Tokyo:20250119T160000
DTSTAMP:20260424T121834
CREATED:20241219T094040Z
LAST-MODIFIED:20250108T021120Z
UID:3632-1734602400-1737302400@ilchibrainyoga-nishinomiya.com
SUMMARY:🐍年末年始特別キャンペーン なんと3回！体験会
DESCRIPTION:腸と脳の新感覚エクササイズ\nトレーニング９０分＋腸またはへそヒーリング１５分\n（🎁ヒーリングは初回にプレゼント） \n内容：ストレッチ&体操、丹田体幹強化、呼吸法、瞑想、気功など \n体験費：１５００円／３回 \n期間：２０２５年１月２０日まで \n持ち物：飲み物、動きやすい服装 \n体験時間 \n(火)〜(金)　10:00～11:40、14:00〜15:40、18:30～20:00 \n(土)(日)　　10:00～11:40、14:00～15:40 \n  \n🌟こんな方におすすめ\n冷えやすい⛄️\n首、肩、腰が硬い😅\n運動不足🏃‍♀️\n柔軟性アップ🙆‍♀️\nメンタル強化🫨\n潜在能力開発🪐 \n  \nイルチブレインヨガ 西宮スタジオ\n0798-26-9580\n（営業時間9−21時）(月)定休日 \n 
URL:https://ilchibrainyoga-nishinomiya.com/event/%f0%9f%90%b2%e5%b9%b4%e6%9c%ab%e5%b9%b4%e5%a7%8b%e7%89%b9%e5%88%a5%e3%82%ad%e3%83%a3%e3%83%b3%e3%83%9a%e3%83%bc%e3%83%b3-%e3%81%aa%e3%82%93%e3%81%a83%e5%9b%9e%ef%bc%81%e4%bd%93%e9%a8%93%e4%bc%9a/
LOCATION:イルチブレインヨガ西宮スタジオ\, 兵庫県西宮市松原町4-4 グランディールⅢ 5階\, 662-0912
ATTACH;FMTTYPE=image/jpeg:https://ilchibrainyoga-nishinomiya.com/wp-content/uploads/2024/12/209ddb73a9227c1e9ecdf9dad3904bcd.jpg
END:VEVENT
END:VCALENDAR