BEGIN:VCALENDAR
VERSION:2.0
PRODID:-//イルチブレインヨガ西宮スタジオ - ECPv6.15.20//NONSGML v1.0//EN
CALSCALE:GREGORIAN
METHOD:PUBLISH
X-WR-CALNAME:イルチブレインヨガ西宮スタジオ
X-ORIGINAL-URL:https://ilchibrainyoga-nishinomiya.com
X-WR-CALDESC:イルチブレインヨガ西宮スタジオ のイベント
REFRESH-INTERVAL;VALUE=DURATION:PT1H
X-Robots-Tag:noindex
X-PUBLISHED-TTL:PT1H
BEGIN:VTIMEZONE
TZID:Asia/Tokyo
BEGIN:STANDARD
TZOFFSETFROM:+0900
TZOFFSETTO:+0900
TZNAME:JST
DTSTART:20240101T000000
END:STANDARD
END:VTIMEZONE
BEGIN:VEVENT
DTSTART;TZID=Asia/Tokyo:20250619T153000
DTEND;TZID=Asia/Tokyo:20250619T170000
DTSTAMP:20260425T011058
CREATED:20250515T052728Z
LAST-MODIFIED:20250604T033710Z
UID:3822-1750347000-1750352400@ilchibrainyoga-nishinomiya.com
SUMMARY:腸と脳イキイキ！体験会
DESCRIPTION:誰にでもできて簡単な動きで体の巡りアップ ❣\n腸を整えて、脳を活性化し、季節の変わり目の\n春を元気に楽しく過ごしましょう！むずかしいポーズは\nありません。お気軽にご参加ください♪ \nこんな方にお勧め \n＊運動不足\n＊首、肩、腰が硬い\n＊柔軟性アップ\n＊健康維持\n＊集中力アップ \n◎老若男女OK\n◎体が硬くてもOK\n◎継続もできます \n●5月15日㈭\n●5月29日㈭\n●6月19日㈭\n15時30分～17時\nプレラにしのみや　6階　和室\n(阪急西宮北口駅 南西口徒歩1分、西宮市高松町4－8) \n●6月26日㈬　11時～16時 (イベント中数回ヨガします)\nカクチーナ　ケ　インカント(西宮市市庭町9-12香櫨館C棟、阪神 香櫨園駅徒歩3分) \n・参加費：1回　500円（要予約・複数参加可）\n・持ち物：動きやすい服装、飲み物、タオル \nイルチブレインヨガ西宮スタジオ\n☎ 0798-26-9580　担当：吉田・福山 \n\n・LINEからのお申し込みはこちら⇒https://lin.ee/oQ1yuZW \n・\n\n  \n\n\n\n\n\n \n体験ご希望日時\n		(必須)　※ご注意：月曜日は定休日です\n		\n \n—以下から選択してください—10111213141516171819時 —以下から選択してください—001020304050分 ～ のクラス\n \nお名前\n		 (必須)\n		\n \n\n \nメールアドレス\n		 (必須)\n		\n \n\n \nお電話番号（携帯可）\n		 (必須)\n		\n \n\n \nこちらのスタジオを何でお知りになりましたか？\n		 (必須)\n		\n \nチラシ看板書籍雑誌紹介Yahoo検索Google検索口コミその他Webサイト\n \nご関心があること、習得したいこと（複数可）\n \n肩こり腰痛の改善自然治癒力アップ集中力アップダイエット体質改善ストレス解消丹田強化呼吸法瞑想法その他\n \n備考欄\n \n\n \n\n\n \n\n Δ \n\n\n \n株式会社DAHN WORLD JAPAN　ダンワールドジャパン
URL:https://ilchibrainyoga-nishinomiya.com/event/%e8%85%b8%e3%81%a8%e8%84%b3%e3%82%a4%e3%82%ad%e3%82%a4%e3%82%ad%e4%bd%93%e9%a8%93%e4%bc%9a%ef%bc%81/
LOCATION:プレラにしのみや　6階　和室\, 西宮市高松町4－8
ATTACH;FMTTYPE=image/png:https://ilchibrainyoga-nishinomiya.com/wp-content/uploads/2024/10/3e36d413772de0e21e558e3527cf8963.png
END:VEVENT
BEGIN:VEVENT
DTSTART;TZID=Asia/Tokyo:20250625T110000
DTEND;TZID=Asia/Tokyo:20250625T160000
DTSTAMP:20260425T011058
CREATED:20250409T051719Z
LAST-MODIFIED:20250604T034214Z
UID:3785-1750849200-1750867200@ilchibrainyoga-nishinomiya.com
SUMMARY:腸と脳イキイキ！体験会
DESCRIPTION:楽しくできて簡単な動きで体の巡りアップ ❣\n腸を整えて、脳を活性化し、季節の変わり目を元気に楽しく過ごしましょう！\nむずかしいポーズはありません。お気軽にご参加ください♪ \nこんな方におススメ\n＊運動不足\n＊首、肩、腰が硬い\n＊柔軟性アップ\n＊健康維持\n＊集中力アップ \n◎老若男女OK\n◎体が硬くてもOK\n◎継続もできます \n●6月25日(水)　11時～16時 (イベント中に数回体験会します)\nカクチーナ　ケ　インカント　(西宮市市庭町9-12香櫨館C棟、阪神 香櫨園駅徒歩3分) \n・入場料：500円（ご予約受付中）\n・持ち物：飲み物、タオル\n・動きやすい服装でお越しください。 \nイルチブレインヨガ西宮スタジオ\n☎ 0798-26-9580　担当：吉田・福山 \n\n・LINEからのお申し込みはこちら⇒https://lin.ee/oQ1yuZW \n・\n\n  \n\n\n\n\n\n \n体験ご希望日時\n		(必須)　※ご注意：月曜日は定休日です\n		\n \n—以下から選択してください—10111213141516171819時 —以下から選択してください—001020304050分 ～ のクラス\n \nお名前\n		 (必須)\n		\n \n\n \nメールアドレス\n		 (必須)\n		\n \n\n \nお電話番号（携帯可）\n		 (必須)\n		\n \n\n \nこちらのスタジオを何でお知りになりましたか？\n		 (必須)\n		\n \nチラシ看板書籍雑誌紹介Yahoo検索Google検索口コミその他Webサイト\n \nご関心があること、習得したいこと（複数可）\n \n肩こり腰痛の改善自然治癒力アップ集中力アップダイエット体質改善ストレス解消丹田強化呼吸法瞑想法その他\n \n備考欄\n \n\n \n\n\n \n\n Δ \n\n\n \n株式会社DAHN WORLD JAPAN　ダンワールドジャパン
URL:https://ilchibrainyoga-nishinomiya.com/event/nishinomiya-42/
LOCATION:カクチーナ　ケ　インカント\, 西宮市市庭町9-12香櫨館C棟
ATTACH;FMTTYPE=image/png:https://ilchibrainyoga-nishinomiya.com/wp-content/uploads/2024/10/3e36d413772de0e21e558e3527cf8963.png
END:VEVENT
END:VCALENDAR