BEGIN:VCALENDAR
VERSION:2.0
PRODID:-//イルチブレインヨガ西宮スタジオ - ECPv6.15.20//NONSGML v1.0//EN
CALSCALE:GREGORIAN
METHOD:PUBLISH
X-WR-CALNAME:イルチブレインヨガ西宮スタジオ
X-ORIGINAL-URL:https://ilchibrainyoga-nishinomiya.com
X-WR-CALDESC:イルチブレインヨガ西宮スタジオ のイベント
REFRESH-INTERVAL;VALUE=DURATION:PT1H
X-Robots-Tag:noindex
X-PUBLISHED-TTL:PT1H
BEGIN:VTIMEZONE
TZID:Asia/Tokyo
BEGIN:STANDARD
TZOFFSETFROM:+0900
TZOFFSETTO:+0900
TZNAME:JST
DTSTART:20240101T000000
END:STANDARD
END:VTIMEZONE
BEGIN:VEVENT
DTSTART;TZID=Asia/Tokyo:20250703T183000
DTEND;TZID=Asia/Tokyo:20250715T203000
DTSTAMP:20260425T011057
CREATED:20250702T062435Z
LAST-MODIFIED:20250715T061246Z
UID:3883-1751567400-1752611400@ilchibrainyoga-nishinomiya.com
SUMMARY:🌟Night Yoga体験会
DESCRIPTION:🌙その日の疲れはその日のうちに🌟🌟🌟\n身体の要の腸から全身をほぐしていき、身体と脳の疲れを流しましょう！めぐりの良い身体にして健康力を高めていきましょう！\nむずかしいポーズはありません。お気軽にご参加ください♪ \n🌅こんな方にお勧め \n＊仕事の疲れを取りたい\n＊リフレッシュ\n＊肩こり腰痛を緩和したい\n＊睡眠の質を上げたい\n＊集中力アップ\n＊瞑想呼吸を体得したい \n◎老若男女OK\n◎体が硬くてもOK\n◎継続もできます \n㈫～㈭　18：40～20：10 \n㈮　　　19：10～20：40\n※(土)(日)はありません。 \n・参加費：1回　1000円（要予約・複数参加可）\n・持ち物：動きやすい服装、飲み物、タオル \nイルチブレインヨガ西宮スタジオ\n☎ 0798-26-9580　担当：吉田・福山 \n\n・LINEからのお申し込みはこちら⇒https://lin.ee/oQ1yuZW \n・\n\n  \n\n\n\n\n\n \n体験ご希望日時\n		(必須)　※ご注意：月曜日は定休日です\n		\n \n—以下から選択してください—10111213141516171819時 —以下から選択してください—001020304050分 ～ のクラス\n \nお名前\n		 (必須)\n		\n \n\n \nメールアドレス\n		 (必須)\n		\n \n\n \nお電話番号（携帯可）\n		 (必須)\n		\n \n\n \nこちらのスタジオを何でお知りになりましたか？\n		 (必須)\n		\n \nチラシ看板書籍雑誌紹介Yahoo検索Google検索口コミその他Webサイト\n \nご関心があること、習得したいこと（複数可）\n \n肩こり腰痛の改善自然治癒力アップ集中力アップダイエット体質改善ストレス解消丹田強化呼吸法瞑想法その他\n \n備考欄\n \n\n \n\n\n \n\n Δ \n\n\n \n株式会社DAHN WORLD JAPAN　ダンワールドジャパン
URL:https://ilchibrainyoga-nishinomiya.com/event/night-yoga%e4%bd%93%e9%a8%93%e4%bc%9a/
LOCATION:イルチブレインヨガ西宮スタジオ\, 兵庫県西宮市松原町4-4 グランディールⅢ 5階\, 662-0912
ATTACH;FMTTYPE=image/jpeg:https://ilchibrainyoga-nishinomiya.com/wp-content/uploads/2025/07/night-yoga.jpg
END:VEVENT
BEGIN:VEVENT
DTSTART;TZID=Asia/Tokyo:20250710T140000
DTEND;TZID=Asia/Tokyo:20250710T153000
DTSTAMP:20260425T011057
CREATED:20250612T042247Z
LAST-MODIFIED:20250613T144904Z
UID:3853-1752156000-1752161400@ilchibrainyoga-nishinomiya.com
SUMMARY:腸と脳イキイキ体験会🌅
DESCRIPTION:誰にでもできて簡単な動きで体の巡りアップ ❣\n腸を整えて、脳を活性化し、季節の変わり目の\n春を元気に楽しく過ごしましょう！むずかしいポーズは\nありません。お気軽にご参加ください♪ \nこんな方にお勧め \n＊運動不足\n＊首、肩、腰が硬い\n＊柔軟性アップ\n＊健康維持\n＊集中力アップ \n◎老若男女OK\n◎体が硬くてもOK\n◎継続もできます \n●７月１０日㈭　１４時～１５時３０分\n若竹公民館\n(JR西宮駅 北東へ徒歩６分、西宮市西福町15-12) \n●７月２４日㈭　１４時～１５時３０分\n浜脇公民館\n(阪神西宮駅 南へ徒歩5分、西宮市浜脇5‐14) \n●６月２５日㈬　11時～16時 (イベント中数回ヨガします)\nカクチーナ　ケ　インカント(西宮市市庭町9-12香櫨館C棟、阪神 香櫨園駅徒歩3分) \n・参加費：1回　500円（要予約・複数参加可）\n・持ち物：動きやすい服装、飲み物、タオル \nイルチブレインヨガ西宮スタジオ\n☎ 0798-26-9580　担当：吉田・福山 \n\n・LINEからのお申し込みはこちら⇒https://lin.ee/oQ1yuZW \n・\n\n  \n\n\n\n\n\n \n体験ご希望日時\n		(必須)　※ご注意：月曜日は定休日です\n		\n \n—以下から選択してください—10111213141516171819時 —以下から選択してください—001020304050分 ～ のクラス\n \nお名前\n		 (必須)\n		\n \n\n \nメールアドレス\n		 (必須)\n		\n \n\n \nお電話番号（携帯可）\n		 (必須)\n		\n \n\n \nこちらのスタジオを何でお知りになりましたか？\n		 (必須)\n		\n \nチラシ看板書籍雑誌紹介Yahoo検索Google検索口コミその他Webサイト\n \nご関心があること、習得したいこと（複数可）\n \n肩こり腰痛の改善自然治癒力アップ集中力アップダイエット体質改善ストレス解消丹田強化呼吸法瞑想法その他\n \n備考欄\n \n\n \n\n\n \n\n Δ \n\n\n \n株式会社DAHN WORLD JAPAN　ダンワールドジャパン
URL:https://ilchibrainyoga-nishinomiya.com/event/%e8%85%b8%e3%81%a8%e8%84%b3%e3%82%a4%e3%82%ad%e3%82%a4%e3%82%ad%e4%bd%93%e9%a8%93%e4%bc%9a%f0%9f%8c%85/
LOCATION:若竹公民館\, 兵庫県\, 西宮市西福町\, 6620844
ATTACH;FMTTYPE=image/jpeg:https://ilchibrainyoga-nishinomiya.com/wp-content/uploads/2025/06/a6e2c9256f32c4e0644599bef926d649.jpg
END:VEVENT
BEGIN:VEVENT
DTSTART;TZID=Asia/Tokyo:20250716T183000
DTEND;TZID=Asia/Tokyo:20250716T193000
DTSTAMP:20260425T011057
CREATED:20250715T054615Z
LAST-MODIFIED:20250715T060804Z
UID:3891-1752690600-1752694200@ilchibrainyoga-nishinomiya.com
SUMMARY:腸&脳イキイキ体験会🐬
DESCRIPTION:誰にでもできる簡単な動きで、ほど良く汗をかき、体内に溜まった老廃物や湿気をデトックス！\nスッキリと暑い夏を上手く乗り切りましょう♪\nむずかしいポーズはありません。お気軽にご参加ください♪ \n～こんな方にお勧め～\n＊運動不足\n＊首、肩、腰が硬い\n＊柔軟性アップ\n＊健康維持\n＊集中力アップ \n◎老若男女OK\n◎体が硬くてもOK\n◎継続もできます \n  \n●７月１6日㈬　１８時４０分～１９時４０分\nイルチブインヨガ西宮スタジオ\n(JR西宮駅 南へ徒歩３分、西宮市松原町４－４、５階) \n●７月２４日㈭　１４時１０分～１５時１０分\n浜脇公民館　第一和室\n(阪神西宮駅 南へ徒歩5分、西宮市浜脇5‐14) \n●７月３０日㈬　１８時４０分～１９時４０分\nイルチブインヨガ西宮スタジオ\n(JR西宮駅 南へ徒歩３分、西宮市松原町４－４、５階) \n●８月７日㈭　１５時４０分～１６時４０分\n若竹公民館　３階和室\n(JR西宮駅 北東へ徒歩６分、西宮市西福町15-12) \n  \n・参加費：1回　500円（要予約・複数参加可）\n・持ち物：動きやすい服装、飲み物、タオル \nイルチブレインヨガ西宮スタジオ\n☎ 0798-26-9580　担当：吉田・福山 \n\n・LINEからのお申し込みはこちら⇒https://lin.ee/oQ1yuZW \n・\n\n  \n\n\n\n\n\n \n体験ご希望日時\n		(必須)　※ご注意：月曜日は定休日です\n		\n \n—以下から選択してください—10111213141516171819時 —以下から選択してください—001020304050分 ～ のクラス\n \nお名前\n		 (必須)\n		\n \n\n \nメールアドレス\n		 (必須)\n		\n \n\n \nお電話番号（携帯可）\n		 (必須)\n		\n \n\n \nこちらのスタジオを何でお知りになりましたか？\n		 (必須)\n		\n \nチラシ看板書籍雑誌紹介Yahoo検索Google検索口コミその他Webサイト\n \nご関心があること、習得したいこと（複数可）\n \n肩こり腰痛の改善自然治癒力アップ集中力アップダイエット体質改善ストレス解消丹田強化呼吸法瞑想法その他\n \n備考欄\n \n\n \n\n\n \n\n Δ \n\n\n \n株式会社DAHN WORLD JAPAN　ダンワールドジャパン
URL:https://ilchibrainyoga-nishinomiya.com/event/%e8%85%b8%e3%81%a8%e8%84%b3%e3%82%a4%e3%82%ad%e3%82%a4%e3%82%ad%e4%bd%93%e9%a8%93%e4%bc%9a%f0%9f%8c%9e-2/
LOCATION:イルチブレインヨガ西宮スタジオ\, 兵庫県西宮市松原町4-4 グランディールⅢ 5階\, 662-0912
ATTACH;FMTTYPE=image/jpeg:https://ilchibrainyoga-nishinomiya.com/wp-content/uploads/2025/06/a6e2c9256f32c4e0644599bef926d649.jpg
END:VEVENT
BEGIN:VEVENT
DTSTART;TZID=Asia/Tokyo:20250724T140000
DTEND;TZID=Asia/Tokyo:20250724T153000
DTSTAMP:20260425T011057
CREATED:20250613T144807Z
LAST-MODIFIED:20250715T060710Z
UID:3857-1753365600-1753371000@ilchibrainyoga-nishinomiya.com
SUMMARY:腸と脳イキイキ体験会🌞
DESCRIPTION:誰にでもできる簡単な動きで、ほど良く汗をかき、体内に溜まった老廃物や湿気をデトックス！\nスッキリと暑い夏を上手く乗り切りましょう♪\nむずかしいポーズはありません。お気軽にご参加ください♪ \nこんな方にお勧め \n＊運動不足\n＊首、肩、腰が硬い\n＊柔軟性アップ\n＊健康維持\n＊集中力アップ \n◎老若男女OK\n◎体が硬くてもOK\n◎継続もできます \n●７月２４日㈭　１４時～１５時３０分\n浜脇公民館\n(阪神西宮駅 南へ徒歩5分、西宮市浜脇5‐14) \n  \n・参加費：1回　500円（要予約・複数参加可）\n・持ち物：動きやすい服装、飲み物、タオル \nイルチブレインヨガ西宮スタジオ\n☎ 0798-26-9580　担当：吉田・福山 \n\n・LINEからのお申し込みはこちら⇒https://lin.ee/oQ1yuZW \n・\n\n  \n\n\n\n\n\n \n体験ご希望日時\n		(必須)　※ご注意：月曜日は定休日です\n		\n \n—以下から選択してください—10111213141516171819時 —以下から選択してください—001020304050分 ～ のクラス\n \nお名前\n		 (必須)\n		\n \n\n \nメールアドレス\n		 (必須)\n		\n \n\n \nお電話番号（携帯可）\n		 (必須)\n		\n \n\n \nこちらのスタジオを何でお知りになりましたか？\n		 (必須)\n		\n \nチラシ看板書籍雑誌紹介Yahoo検索Google検索口コミその他Webサイト\n \nご関心があること、習得したいこと（複数可）\n \n肩こり腰痛の改善自然治癒力アップ集中力アップダイエット体質改善ストレス解消丹田強化呼吸法瞑想法その他\n \n備考欄\n \n\n \n\n\n \n\n Δ \n\n\n \n株式会社DAHN WORLD JAPAN　ダンワールドジャパン
URL:https://ilchibrainyoga-nishinomiya.com/event/%e8%85%b8%e3%81%a8%e8%84%b3%e3%82%a4%e3%82%ad%e3%82%a4%e3%82%ad%e4%bd%93%e9%a8%93%e4%bc%9a%f0%9f%8c%9e/
LOCATION:浜脇公民館\, 西宮市浜脇5－14\, 兵庫県\, 6620941
ATTACH;FMTTYPE=image/jpeg:https://ilchibrainyoga-nishinomiya.com/wp-content/uploads/2025/06/a6e2c9256f32c4e0644599bef926d649.jpg
END:VEVENT
BEGIN:VEVENT
DTSTART;TZID=Asia/Tokyo:20250730T183000
DTEND;TZID=Asia/Tokyo:20250730T193000
DTSTAMP:20260425T011057
CREATED:20250715T055119Z
LAST-MODIFIED:20250715T060607Z
UID:3895-1753900200-1753903800@ilchibrainyoga-nishinomiya.com
SUMMARY:腸&脳イキイキ体験会🐬
DESCRIPTION:誰にでもできる簡単な動きで、ほど良く汗をかき、体内に溜まった老廃物や湿気をデトックス！\nスッキリと暑い夏を上手く乗り切りましょう♪\nむずかしいポーズはありません。お気軽にご参加ください♪ \n～こんな方にお勧め～\n＊運動不足\n＊首、肩、腰が硬い\n＊柔軟性アップ\n＊健康維持\n＊集中力アップ \n◎老若男女OK\n◎体が硬くてもOK\n◎継続もできます \n  \n●７月１6日㈬　１８時４０分～１９時４０分\nイルチブインヨガ西宮スタジオ\n(JR西宮駅 南へ徒歩３分、西宮市松原町４－４、５階) \n●７月２４日㈭　１４時１０分～１５時１０分\n浜脇公民館　第一和室\n(阪神西宮駅 南へ徒歩5分、西宮市浜脇5‐14) \n●７月３０日㈬　１８時４０分～１９時４０分\nイルチブインヨガ西宮スタジオ\n(JR西宮駅 南へ徒歩３分、西宮市松原町４－４、５階) \n●８月７日㈭　１５時４０分～１６時４０分\n若竹公民館　３階和室\n(JR西宮駅 北東へ徒歩６分、西宮市西福町15-12) \n  \n・参加費：1回　500円（要予約・複数参加可）\n・持ち物：動きやすい服装、飲み物、タオル \nイルチブレインヨガ西宮スタジオ\n☎ 0798-26-9580　担当：吉田・福山 \n\n・LINEからのお申し込みはこちら⇒https://lin.ee/oQ1yuZW \n・\n\n  \n\n\n\n\n\n \n体験ご希望日時\n		(必須)　※ご注意：月曜日は定休日です\n		\n \n—以下から選択してください—10111213141516171819時 —以下から選択してください—001020304050分 ～ のクラス\n \nお名前\n		 (必須)\n		\n \n\n \nメールアドレス\n		 (必須)\n		\n \n\n \nお電話番号（携帯可）\n		 (必須)\n		\n \n\n \nこちらのスタジオを何でお知りになりましたか？\n		 (必須)\n		\n \nチラシ看板書籍雑誌紹介Yahoo検索Google検索口コミその他Webサイト\n \nご関心があること、習得したいこと（複数可）\n \n肩こり腰痛の改善自然治癒力アップ集中力アップダイエット体質改善ストレス解消丹田強化呼吸法瞑想法その他\n \n備考欄\n \n\n \n\n\n \n\n Δ \n\n\n \n株式会社DAHN WORLD JAPAN　ダンワールドジャパン
URL:https://ilchibrainyoga-nishinomiya.com/event/%e8%85%b8%e8%84%b3%e3%82%a4%e3%82%ad%e3%82%a4%e3%82%ad%e4%bd%93%e9%a8%93%e4%bc%9a%f0%9f%90%ac/
LOCATION:イルチブレインヨガ西宮スタジオ\, 兵庫県西宮市松原町4-4 グランディールⅢ 5階\, 662-0912
ATTACH;FMTTYPE=image/jpeg:https://ilchibrainyoga-nishinomiya.com/wp-content/uploads/2025/06/a6e2c9256f32c4e0644599bef926d649.jpg
END:VEVENT
END:VCALENDAR