BEGIN:VCALENDAR
VERSION:2.0
PRODID:-//イルチブレインヨガ西宮スタジオ - ECPv6.15.20//NONSGML v1.0//EN
CALSCALE:GREGORIAN
METHOD:PUBLISH
X-WR-CALNAME:イルチブレインヨガ西宮スタジオ
X-ORIGINAL-URL:https://ilchibrainyoga-nishinomiya.com
X-WR-CALDESC:イルチブレインヨガ西宮スタジオ のイベント
REFRESH-INTERVAL;VALUE=DURATION:PT1H
X-Robots-Tag:noindex
X-PUBLISHED-TTL:PT1H
BEGIN:VTIMEZONE
TZID:Asia/Tokyo
BEGIN:STANDARD
TZOFFSETFROM:+0900
TZOFFSETTO:+0900
TZNAME:JST
DTSTART:20250101T000000
END:STANDARD
END:VTIMEZONE
BEGIN:VEVENT
DTSTART;TZID=Asia/Tokyo:20260423T140000
DTEND;TZID=Asia/Tokyo:20260423T160000
DTSTAMP:20260424T091109
CREATED:20260407T020816Z
LAST-MODIFIED:20260407T031625Z
UID:4561-1776952800-1776960000@ilchibrainyoga-nishinomiya.com
SUMMARY:第1回　氣喜マルシェ　オーラ体験会
DESCRIPTION:あなたのオーラは何色ですか？ \n  \n元町駅近くで、健康になるためのご自分を知ること、 \nそして、そのごあなたにあったアドバイスやトレーニングをお伝えいたします。 \n体験費：1000円 \n  \nどなたでも体験できます。お会いできますことを楽しみにしています。 \n  \n会場 : Vegan cafe Thallo\n神戸市中央区北長狭通４丁目７−12オーシャンズコート 1F
URL:https://ilchibrainyoga-nishinomiya.com/event/%e7%ac%ac1%e5%9b%9e%e3%80%80%e6%b0%a3%e5%96%9c%e3%83%9e%e3%83%ab%e3%82%b7%e3%82%a7%e3%80%80%e3%82%aa%e3%83%bc%e3%83%a9%e4%bd%93%e9%a8%93%e4%bc%9a/
ATTACH;FMTTYPE=image/png:https://ilchibrainyoga-nishinomiya.com/wp-content/uploads/2025/12/1b7421d12446cba58cf587cc54d985ae.png
END:VEVENT
END:VCALENDAR