BEGIN:VCALENDAR
VERSION:2.0
PRODID:-//イルチブレインヨガ西宮スタジオ - ECPv6.15.20//NONSGML v1.0//EN
CALSCALE:GREGORIAN
METHOD:PUBLISH
X-ORIGINAL-URL:https://ilchibrainyoga-nishinomiya.com
X-WR-CALDESC:イルチブレインヨガ西宮スタジオ のイベント
REFRESH-INTERVAL;VALUE=DURATION:PT1H
X-Robots-Tag:noindex
X-PUBLISHED-TTL:PT1H
BEGIN:VTIMEZONE
TZID:Asia/Tokyo
BEGIN:STANDARD
TZOFFSETFROM:+0900
TZOFFSETTO:+0900
TZNAME:JST
DTSTART:20250101T000000
END:STANDARD
END:VTIMEZONE
BEGIN:VEVENT
DTSTART;TZID=Asia/Tokyo:20260423T140000
DTEND;TZID=Asia/Tokyo:20260423T160000
DTSTAMP:20260424T092945
CREATED:20260407T020816Z
LAST-MODIFIED:20260407T031625Z
UID:4561-1776952800-1776960000@ilchibrainyoga-nishinomiya.com
SUMMARY:第1回　氣喜マルシェ　オーラ体験会
DESCRIPTION:あなたのオーラは何色ですか？ \n  \n元町駅近くで、健康になるためのご自分を知ること、 \nそして、そのごあなたにあったアドバイスやトレーニングをお伝えいたします。 \n体験費：1000円 \n  \nどなたでも体験できます。お会いできますことを楽しみにしています。 \n  \n会場 : Vegan cafe Thallo\n神戸市中央区北長狭通４丁目７−12オーシャンズコート 1F
URL:https://ilchibrainyoga-nishinomiya.com/event/%e7%ac%ac1%e5%9b%9e%e3%80%80%e6%b0%a3%e5%96%9c%e3%83%9e%e3%83%ab%e3%82%b7%e3%82%a7%e3%80%80%e3%82%aa%e3%83%bc%e3%83%a9%e4%bd%93%e9%a8%93%e4%bc%9a/
ATTACH;FMTTYPE=image/png:https://ilchibrainyoga-nishinomiya.com/wp-content/uploads/2025/12/1b7421d12446cba58cf587cc54d985ae.png
END:VEVENT
BEGIN:VEVENT
DTSTART;TZID=Asia/Tokyo:20260204T103000
DTEND;TZID=Asia/Tokyo:20260204T173000
DTSTAMP:20260424T092945
CREATED:20260113T090702Z
LAST-MODIFIED:20260114T073347Z
UID:4430-1770201000-1770226200@ilchibrainyoga-nishinomiya.com
SUMMARY:🎈ぴえろっとマルシェ🎈とLove Heals上映会
DESCRIPTION:開催日：2026年２月４日水曜日\n時間：10:30~15:30\n料金：入場無料　各ブース利用料あり \n🍀温活&腸活ヒーリングとカウンセリング\n（自然治癒力を高めるお手伝い）\n20分　1000円 \nその他\n🍀首肩背中ヒーリング\n🍀オーガニック\n🍀体によい食品(塩・スパイス・お茶など)\n🍀心温まる雑貨\n🍀対面ワークショップなどなど・・・\n身体と心を癒すマルシェです。 \n場所：Caféぴえろっと\n神戸市東灘区森南町1-18-11　ラブリィズ西芦屋　１階\nhttps://u-word.com/teppan/store/storeDetail/126101\nJR神戸線　甲南山手駅を南に出て線路沿い芦屋方面に徒歩3分 \n  \n交流会＆上映会もあります。 \n<LOVE HEALS>\n16:00～17:30　料金別途\n🎞️映画館では見れない!ドキュメンタリー映画\n医学、心理学、量子学とスピリチュアル、ヒーリングの双方から｢癒し｣を探る作品 \n申込はこちらからできます。\nhttps://chouseisan.com/s?h=d6b17416274140f2b9a1600713e55054 \n主催：仙崎善男・小榑由布子・糟谷香・森下政敏
URL:https://ilchibrainyoga-nishinomiya.com/event/%f0%9f%8e%88%e3%81%b4%e3%81%88%e3%82%8d%e3%81%a3%e3%81%a8%e3%83%9e%e3%83%ab%e3%82%b7%e3%82%a7%f0%9f%8e%88%e3%81%a8love-heals%e4%b8%8a%e6%98%a0%e4%bc%9a/
ATTACH;FMTTYPE=image/jpeg:https://ilchibrainyoga-nishinomiya.com/wp-content/uploads/2026/01/e37614fb6b91dd43915da40748a3b52a.jpg
END:VEVENT
BEGIN:VEVENT
DTSTART;VALUE=DATE:20260203
DTEND;VALUE=DATE:20260301
DTSTAMP:20260424T092945
CREATED:20260129T015911Z
LAST-MODIFIED:20260129T022829Z
UID:4455-1770076800-1772323199@ilchibrainyoga-nishinomiya.com
SUMMARY:💻オンライン無料体験会「2月限定の冷え・体調管理」
DESCRIPTION:体温アップで冬の不調をスッキリ！\n無料オンライン体験会で、芯から温まる心身の変化を実感！！\n💖 体験していくと… \n\nお腹と身体が温まる\n体と心がほぐれる\n集中力が高まる\n体が軽くなる\n自信がついてくる\n\n\n🌟体験コース：トレーニング４０分＋ ご説明\n🕙 開催日時：2月\n(火)(木)(土)14:00～14:40 \n💰 参加費：1回 ０円（要予約）\n🎒 動きやすい服装でご参加ください。 \n\n📍Zoom URLはお申し込み後お送りいたします。\nイルチブレインヨガ西宮スタジオ\n（JR西宮駅 南へ徒歩３分／西宮市松原町4-4 グランディールⅢ5階）\n☎ 0798-26-9580　担当：吉田・福山 \n\n✅お申し込みはこちら\n「オンライン無料体験」と明記ください！\n\nLINE ⇒ https://lin.ee/oQ1yuZW\n ホームページ申込み ⇒https://ilchibrainyoga-nishinomiya.com/yoyaku/
URL:https://ilchibrainyoga-nishinomiya.com/event/%f0%9f%92%bb%e3%82%aa%e3%83%b3%e3%83%a9%e3%82%a4%e3%83%b3%e7%84%a1%e6%96%99%e4%bd%93%e9%a8%93%e4%bc%9a2%e6%9c%88/
LOCATION:イルチブレインヨガ西宮スタジオ
ATTACH;FMTTYPE=image/png:https://ilchibrainyoga-nishinomiya.com/wp-content/uploads/2023/10/studio_online_P-300x79-2.png
END:VEVENT
BEGIN:VEVENT
DTSTART;VALUE=DATE:20260131
DTEND;VALUE=DATE:20260201
DTSTAMP:20260424T092945
CREATED:20260120T073811Z
LAST-MODIFIED:20260121T030725Z
UID:4441-1769817600-1769903999@ilchibrainyoga-nishinomiya.com
SUMMARY:💻オンライン無料体験会
DESCRIPTION:１月今年も新しいチャレンジをしましょう！\n💖 体験していくと… \n\n体と心がほぐれる\n頭がスッキリする→集中力が高まる\n自分軸が整ってくる\nセルフヒーリングの感覚がついてくる\nお腹や身体が温まる\n\n\n🌟体験コース：トレーニング４０分＋ ご説明とミニカウンセリング２０分\n🕙 開催日時：1月\n21(水)14:00～15:00\n22(木)14:00～15:00、20:00～21:00\n23(金)14:00～15:00\n27(火)14:00～15:00\n28(水)14:00～15:00、20:00～21:00\n29(木)14:00～15:00、20:00～21:00 \n💰 参加費：1回 ０円（要予約）\n🎒 動きやすい服装でご参加ください。 \n\n📍Zoom URLはお申し込み後お送りいたします。\nイルチブレインヨガ西宮スタジオ\n（JR西宮駅 南へ徒歩３分／西宮市松原町4-4 5階）\n☎ 0798-26-9580　担当：吉田・福山 \n\n✅お申し込みはこちら\n「オンライン無料体験」と明記ください！\n\nLINE ⇒ https://lin.ee/oQ1yuZW\n ホームページ申込み ⇒https://ilchibrainyoga-nishinomiya.com/yoyaku/
URL:https://ilchibrainyoga-nishinomiya.com/event/%f0%9f%92%bb%e3%82%aa%e3%83%b3%e3%83%a9%e3%82%a4%e3%83%b3%e7%84%a1%e6%96%99%e4%bd%93%e9%a8%93%e4%bc%9a/
LOCATION:イルチブレインヨガ西宮スタジオ
ATTACH;FMTTYPE=image/png:https://ilchibrainyoga-nishinomiya.com/wp-content/uploads/2023/10/studio_online_S-300x126-2.png
END:VEVENT
BEGIN:VEVENT
DTSTART;VALUE=DATE:20260131
DTEND;VALUE=DATE:20260201
DTSTAMP:20260424T092945
CREATED:20251218T060935Z
LAST-MODIFIED:20251218T060935Z
UID:4392-1769817600-1769903999@ilchibrainyoga-nishinomiya.com
SUMMARY:🌅腸と脳　新感覚YOGAエクササイズ
DESCRIPTION:  \n🌅新しい年、心と体に希望のスタートを！🎍\n“90分で、未来が軽やかに動き出す。” \n年末年始で疲れた腸をやさしく整える「腸もみデトックス」を、体験者全員にプレゼント🎁\n✨ 心も体もリセットして、新しい自分に出会うチャンスです。 \n💖 体験すると… \n\n体がぽかぽか温まり、心がほぐれる\n呼吸が深まり、集中力が高まる\n慢性痛がやわらぎ、前向きな気持ちに\n\n「今年こそ変わりたい」そんなあなたに、希望の扉を開く体験を。 \n\nこんな方におすすめ\n\n新しい年を明るく始めたい\n自律神経を整えて心身を安定させたい\n集中力を高めたい\n腸を整えて内側から健康に\n運動不足を解消したい\n\n\n🌟体験コース\nトレーニング90分 + 自律神経バランスチェック \n📅 開催日：1月（詳細日程あり／ご相談可）\n🕙 時間：午前・午後・夜の3枠\n💰 参加費：1回 1\,000円（要予約）\n🎒 持ち物：動きやすい服・飲み物・タオル \n\n📍会場\nイルチブレインヨガ西宮スタジオ\n（JR西宮駅 南へ徒歩３分／西宮市松原町4-4 5階）\n☎ 0798-26-9580　担当：吉田・福山 \n\n✅お申し込みはこちら\n\nLINE ⇒ https://lin.ee/oQ1yuZW\nWebフォーム ⇒ \n\n  \n\n\n\n\n\n \n体験ご希望日時\n		(必須)　※ご注意：月曜日は定休日です\n		\n \n—以下から選択してください—10111213141516171819時 —以下から選択してください—001020304050分 ～ のクラス\n \nお名前\n		 (必須)\n		\n \n\n \nメールアドレス\n		 (必須)\n		\n \n\n \nお電話番号（携帯可）\n		 (必須)\n		\n \n\n \nこちらのスタジオを何でお知りになりましたか？\n		 (必須)\n		\n \nチラシ看板書籍雑誌紹介Yahoo検索Google検索口コミその他Webサイト\n \nご関心があること、習得したいこと（複数可）\n \n肩こり腰痛の改善自然治癒力アップ集中力アップダイエット体質改善ストレス解消丹田強化呼吸法瞑想法その他\n \n備考欄\n \n\n \n\n\n \n\n Δ \n\n\n\n\n 
URL:https://ilchibrainyoga-nishinomiya.com/event/%f0%9f%8c%85%e8%85%b8%e3%81%a8%e8%84%b3%e3%80%80%e6%96%b0%e6%84%9f%e8%a6%9ayoga%e3%82%a8%e3%82%af%e3%82%b5%e3%82%b5%e3%82%a4%e3%82%ba-8/
LOCATION:イルチブレインヨガ西宮スタジオ
ATTACH;FMTTYPE=image/png:https://ilchibrainyoga-nishinomiya.com/wp-content/uploads/2025/12/bf10ce7a0d624db39af11b93fa3fc7c6.png
END:VEVENT
BEGIN:VEVENT
DTSTART;VALUE=DATE:20260127
DTEND;VALUE=DATE:20260130
DTSTAMP:20260424T092945
CREATED:20251218T060856Z
LAST-MODIFIED:20251218T060856Z
UID:4390-1769472000-1769731199@ilchibrainyoga-nishinomiya.com
SUMMARY:🌅腸と脳　新感覚YOGAエクササイズ
DESCRIPTION:  \n🌅新しい年、心と体に希望のスタートを！🎍\n“90分で、未来が軽やかに動き出す。” \n年末年始で疲れた腸をやさしく整える「腸もみデトックス」を、体験者全員にプレゼント🎁\n✨ 心も体もリセットして、新しい自分に出会うチャンスです。 \n💖 体験すると… \n\n体がぽかぽか温まり、心がほぐれる\n呼吸が深まり、集中力が高まる\n慢性痛がやわらぎ、前向きな気持ちに\n\n「今年こそ変わりたい」そんなあなたに、希望の扉を開く体験を。 \n\nこんな方におすすめ\n\n新しい年を明るく始めたい\n自律神経を整えて心身を安定させたい\n集中力を高めたい\n腸を整えて内側から健康に\n運動不足を解消したい\n\n\n🌟体験コース\nトレーニング90分 + 自律神経バランスチェック \n📅 開催日：1月（詳細日程あり／ご相談可）\n🕙 時間：午前・午後・夜の3枠\n💰 参加費：1回 1\,000円（要予約）\n🎒 持ち物：動きやすい服・飲み物・タオル \n\n📍会場\nイルチブレインヨガ西宮スタジオ\n（JR西宮駅 南へ徒歩３分／西宮市松原町4-4 5階）\n☎ 0798-26-9580　担当：吉田・福山 \n\n✅お申し込みはこちら\n\nLINE ⇒ https://lin.ee/oQ1yuZW\nWebフォーム ⇒ \n\n  \n\n\n\n\n\n \n体験ご希望日時\n		(必須)　※ご注意：月曜日は定休日です\n		\n \n—以下から選択してください—10111213141516171819時 —以下から選択してください—001020304050分 ～ のクラス\n \nお名前\n		 (必須)\n		\n \n\n \nメールアドレス\n		 (必須)\n		\n \n\n \nお電話番号（携帯可）\n		 (必須)\n		\n \n\n \nこちらのスタジオを何でお知りになりましたか？\n		 (必須)\n		\n \nチラシ看板書籍雑誌紹介Yahoo検索Google検索口コミその他Webサイト\n \nご関心があること、習得したいこと（複数可）\n \n肩こり腰痛の改善自然治癒力アップ集中力アップダイエット体質改善ストレス解消丹田強化呼吸法瞑想法その他\n \n備考欄\n \n\n \n\n\n \n\n Δ \n\n\n\n\n 
URL:https://ilchibrainyoga-nishinomiya.com/event/%f0%9f%8c%85%e8%85%b8%e3%81%a8%e8%84%b3%e3%80%80%e6%96%b0%e6%84%9f%e8%a6%9ayoga%e3%82%a8%e3%82%af%e3%82%b5%e3%82%b5%e3%82%a4%e3%82%ba-7/
LOCATION:イルチブレインヨガ西宮スタジオ
ATTACH;FMTTYPE=image/png:https://ilchibrainyoga-nishinomiya.com/wp-content/uploads/2025/12/bf10ce7a0d624db39af11b93fa3fc7c6.png
END:VEVENT
BEGIN:VEVENT
DTSTART;VALUE=DATE:20260124
DTEND;VALUE=DATE:20260126
DTSTAMP:20260424T092945
CREATED:20251218T060819Z
LAST-MODIFIED:20251218T060819Z
UID:4388-1769212800-1769385599@ilchibrainyoga-nishinomiya.com
SUMMARY:🌅腸と脳　新感覚YOGAエクササイズ
DESCRIPTION:  \n🌅新しい年、心と体に希望のスタートを！🎍\n“90分で、未来が軽やかに動き出す。” \n年末年始で疲れた腸をやさしく整える「腸もみデトックス」を、体験者全員にプレゼント🎁\n✨ 心も体もリセットして、新しい自分に出会うチャンスです。 \n💖 体験すると… \n\n体がぽかぽか温まり、心がほぐれる\n呼吸が深まり、集中力が高まる\n慢性痛がやわらぎ、前向きな気持ちに\n\n「今年こそ変わりたい」そんなあなたに、希望の扉を開く体験を。 \n\nこんな方におすすめ\n\n新しい年を明るく始めたい\n自律神経を整えて心身を安定させたい\n集中力を高めたい\n腸を整えて内側から健康に\n運動不足を解消したい\n\n\n🌟体験コース\nトレーニング90分 + 自律神経バランスチェック \n📅 開催日：1月（詳細日程あり／ご相談可）\n🕙 時間：午前・午後・夜の3枠\n💰 参加費：1回 1\,000円（要予約）\n🎒 持ち物：動きやすい服・飲み物・タオル \n\n📍会場\nイルチブレインヨガ西宮スタジオ\n（JR西宮駅 南へ徒歩３分／西宮市松原町4-4 5階）\n☎ 0798-26-9580　担当：吉田・福山 \n\n✅お申し込みはこちら\n\nLINE ⇒ https://lin.ee/oQ1yuZW\nWebフォーム ⇒ \n\n  \n\n\n\n\n\n \n体験ご希望日時\n		(必須)　※ご注意：月曜日は定休日です\n		\n \n—以下から選択してください—10111213141516171819時 —以下から選択してください—001020304050分 ～ のクラス\n \nお名前\n		 (必須)\n		\n \n\n \nメールアドレス\n		 (必須)\n		\n \n\n \nお電話番号（携帯可）\n		 (必須)\n		\n \n\n \nこちらのスタジオを何でお知りになりましたか？\n		 (必須)\n		\n \nチラシ看板書籍雑誌紹介Yahoo検索Google検索口コミその他Webサイト\n \nご関心があること、習得したいこと（複数可）\n \n肩こり腰痛の改善自然治癒力アップ集中力アップダイエット体質改善ストレス解消丹田強化呼吸法瞑想法その他\n \n備考欄\n \n\n \n\n\n \n\n Δ \n\n\n\n\n 
URL:https://ilchibrainyoga-nishinomiya.com/event/%f0%9f%8c%85%e8%85%b8%e3%81%a8%e8%84%b3%e3%80%80%e6%96%b0%e6%84%9f%e8%a6%9ayoga%e3%82%a8%e3%82%af%e3%82%b5%e3%82%b5%e3%82%a4%e3%82%ba-6/
LOCATION:イルチブレインヨガ西宮スタジオ
ATTACH;FMTTYPE=image/png:https://ilchibrainyoga-nishinomiya.com/wp-content/uploads/2025/12/bf10ce7a0d624db39af11b93fa3fc7c6.png
END:VEVENT
BEGIN:VEVENT
DTSTART;VALUE=DATE:20260120
DTEND;VALUE=DATE:20260123
DTSTAMP:20260424T092945
CREATED:20251218T060719Z
LAST-MODIFIED:20251218T060740Z
UID:4386-1768867200-1769126399@ilchibrainyoga-nishinomiya.com
SUMMARY:🌅腸と脳　新感覚YOGAエクササイズ
DESCRIPTION:  \n🌅新しい年、心と体に希望のスタートを！🎍\n“90分で、未来が軽やかに動き出す。” \n年末年始で疲れた腸をやさしく整える「腸もみデトックス」を、体験者全員にプレゼント🎁\n✨ 心も体もリセットして、新しい自分に出会うチャンスです。 \n💖 体験すると… \n\n体がぽかぽか温まり、心がほぐれる\n呼吸が深まり、集中力が高まる\n慢性痛がやわらぎ、前向きな気持ちに\n\n「今年こそ変わりたい」そんなあなたに、希望の扉を開く体験を。 \n\nこんな方におすすめ\n\n新しい年を明るく始めたい\n自律神経を整えて心身を安定させたい\n集中力を高めたい\n腸を整えて内側から健康に\n運動不足を解消したい\n\n\n🌟体験コース\nトレーニング90分 + 自律神経バランスチェック \n📅 開催日：1月（詳細日程あり／ご相談可）\n🕙 時間：午前・午後・夜の3枠\n💰 参加費：1回 1\,000円（要予約）\n🎒 持ち物：動きやすい服・飲み物・タオル \n\n📍会場\nイルチブレインヨガ西宮スタジオ\n（JR西宮駅 南へ徒歩３分／西宮市松原町4-4 5階）\n☎ 0798-26-9580　担当：吉田・福山 \n\n✅お申し込みはこちら\n\nLINE ⇒ https://lin.ee/oQ1yuZW\nWebフォーム ⇒ \n\n  \n\n\n\n\n\n \n体験ご希望日時\n		(必須)　※ご注意：月曜日は定休日です\n		\n \n—以下から選択してください—10111213141516171819時 —以下から選択してください—001020304050分 ～ のクラス\n \nお名前\n		 (必須)\n		\n \n\n \nメールアドレス\n		 (必須)\n		\n \n\n \nお電話番号（携帯可）\n		 (必須)\n		\n \n\n \nこちらのスタジオを何でお知りになりましたか？\n		 (必須)\n		\n \nチラシ看板書籍雑誌紹介Yahoo検索Google検索口コミその他Webサイト\n \nご関心があること、習得したいこと（複数可）\n \n肩こり腰痛の改善自然治癒力アップ集中力アップダイエット体質改善ストレス解消丹田強化呼吸法瞑想法その他\n \n備考欄\n \n\n \n\n\n \n\n Δ \n\n\n\n\n 
URL:https://ilchibrainyoga-nishinomiya.com/event/%f0%9f%8c%85%e8%85%b8%e3%81%a8%e8%84%b3%e3%80%80%e6%96%b0%e6%84%9f%e8%a6%9ayoga%e3%82%a8%e3%82%af%e3%82%b5%e3%82%b5%e3%82%a4%e3%82%ba-5/
LOCATION:イルチブレインヨガ西宮スタジオ
ATTACH;FMTTYPE=image/png:https://ilchibrainyoga-nishinomiya.com/wp-content/uploads/2025/12/bf10ce7a0d624db39af11b93fa3fc7c6.png
END:VEVENT
BEGIN:VEVENT
DTSTART;VALUE=DATE:20260118
DTEND;VALUE=DATE:20260119
DTSTAMP:20260424T092945
CREATED:20251218T060626Z
LAST-MODIFIED:20251218T060626Z
UID:4384-1768694400-1768780799@ilchibrainyoga-nishinomiya.com
SUMMARY:🌅腸と脳　新感覚YOGAエクササイズ
DESCRIPTION:  \n🌅新しい年、心と体に希望のスタートを！🎍\n“90分で、未来が軽やかに動き出す。” \n年末年始で疲れた腸をやさしく整える「腸もみデトックス」を、体験者全員にプレゼント🎁\n✨ 心も体もリセットして、新しい自分に出会うチャンスです。 \n💖 体験すると… \n\n体がぽかぽか温まり、心がほぐれる\n呼吸が深まり、集中力が高まる\n慢性痛がやわらぎ、前向きな気持ちに\n\n「今年こそ変わりたい」そんなあなたに、希望の扉を開く体験を。 \n\nこんな方におすすめ\n\n新しい年を明るく始めたい\n自律神経を整えて心身を安定させたい\n集中力を高めたい\n腸を整えて内側から健康に\n運動不足を解消したい\n\n\n🌟体験コース\nトレーニング90分 + 自律神経バランスチェック \n📅 開催日：1月（詳細日程あり／ご相談可）\n🕙 時間：午前・午後・夜の3枠\n💰 参加費：1回 1\,000円（要予約）\n🎒 持ち物：動きやすい服・飲み物・タオル \n\n📍会場\nイルチブレインヨガ西宮スタジオ\n（JR西宮駅 南へ徒歩３分／西宮市松原町4-4 5階）\n☎ 0798-26-9580　担当：吉田・福山 \n\n✅お申し込みはこちら\n\nLINE ⇒ https://lin.ee/oQ1yuZW\nWebフォーム ⇒ \n\n  \n\n\n\n\n\n \n体験ご希望日時\n		(必須)　※ご注意：月曜日は定休日です\n		\n \n—以下から選択してください—10111213141516171819時 —以下から選択してください—001020304050分 ～ のクラス\n \nお名前\n		 (必須)\n		\n \n\n \nメールアドレス\n		 (必須)\n		\n \n\n \nお電話番号（携帯可）\n		 (必須)\n		\n \n\n \nこちらのスタジオを何でお知りになりましたか？\n		 (必須)\n		\n \nチラシ看板書籍雑誌紹介Yahoo検索Google検索口コミその他Webサイト\n \nご関心があること、習得したいこと（複数可）\n \n肩こり腰痛の改善自然治癒力アップ集中力アップダイエット体質改善ストレス解消丹田強化呼吸法瞑想法その他\n \n備考欄\n \n\n \n\n\n \n\n Δ \n\n\n\n\n 
URL:https://ilchibrainyoga-nishinomiya.com/event/%f0%9f%8c%85%e8%85%b8%e3%81%a8%e8%84%b3%e3%80%80%e6%96%b0%e6%84%9f%e8%a6%9ayoga%e3%82%a8%e3%82%af%e3%82%b5%e3%82%b5%e3%82%a4%e3%82%ba-4/
LOCATION:イルチブレインヨガ西宮スタジオ
ATTACH;FMTTYPE=image/png:https://ilchibrainyoga-nishinomiya.com/wp-content/uploads/2025/12/bf10ce7a0d624db39af11b93fa3fc7c6.png
END:VEVENT
BEGIN:VEVENT
DTSTART;VALUE=DATE:20260113
DTEND;VALUE=DATE:20260116
DTSTAMP:20260424T092945
CREATED:20251218T060411Z
LAST-MODIFIED:20251218T060411Z
UID:4382-1768262400-1768521599@ilchibrainyoga-nishinomiya.com
SUMMARY:🌅腸と脳　新感覚YOGAエクササイズ
DESCRIPTION:  \n🌅新しい年、心と体に希望のスタートを！🎍\n“90分で、未来が軽やかに動き出す。” \n年末年始で疲れた腸をやさしく整える「腸もみデトックス」を、体験者全員にプレゼント🎁\n✨ 心も体もリセットして、新しい自分に出会うチャンスです。 \n💖 体験すると… \n\n体がぽかぽか温まり、心がほぐれる\n呼吸が深まり、集中力が高まる\n慢性痛がやわらぎ、前向きな気持ちに\n\n「今年こそ変わりたい」そんなあなたに、希望の扉を開く体験を。 \n\nこんな方におすすめ\n\n新しい年を明るく始めたい\n自律神経を整えて心身を安定させたい\n集中力を高めたい\n腸を整えて内側から健康に\n運動不足を解消したい\n\n\n🌟体験コース\nトレーニング90分 + 自律神経バランスチェック \n📅 開催日：1月（詳細日程あり／ご相談可）\n🕙 時間：午前・午後・夜の3枠\n💰 参加費：1回 1\,000円（要予約）\n🎒 持ち物：動きやすい服・飲み物・タオル \n\n📍会場\nイルチブレインヨガ西宮スタジオ\n（JR西宮駅 南へ徒歩３分／西宮市松原町4-4 5階）\n☎ 0798-26-9580　担当：吉田・福山 \n\n✅お申し込みはこちら\n\nLINE ⇒ https://lin.ee/oQ1yuZW\nWebフォーム ⇒ \n\n  \n\n\n\n\n\n \n体験ご希望日時\n		(必須)　※ご注意：月曜日は定休日です\n		\n \n—以下から選択してください—10111213141516171819時 —以下から選択してください—001020304050分 ～ のクラス\n \nお名前\n		 (必須)\n		\n \n\n \nメールアドレス\n		 (必須)\n		\n \n\n \nお電話番号（携帯可）\n		 (必須)\n		\n \n\n \nこちらのスタジオを何でお知りになりましたか？\n		 (必須)\n		\n \nチラシ看板書籍雑誌紹介Yahoo検索Google検索口コミその他Webサイト\n \nご関心があること、習得したいこと（複数可）\n \n肩こり腰痛の改善自然治癒力アップ集中力アップダイエット体質改善ストレス解消丹田強化呼吸法瞑想法その他\n \n備考欄\n \n\n \n\n\n \n\n Δ \n\n\n\n\n 
URL:https://ilchibrainyoga-nishinomiya.com/event/%f0%9f%8c%85%e8%85%b8%e3%81%a8%e8%84%b3%e3%80%80%e6%96%b0%e6%84%9f%e8%a6%9ayoga%e3%82%a8%e3%82%af%e3%82%b5%e3%82%b5%e3%82%a4%e3%82%ba-3/
LOCATION:イルチブレインヨガ西宮スタジオ
ATTACH;FMTTYPE=image/png:https://ilchibrainyoga-nishinomiya.com/wp-content/uploads/2025/12/bf10ce7a0d624db39af11b93fa3fc7c6.png
END:VEVENT
BEGIN:VEVENT
DTSTART;VALUE=DATE:20260110
DTEND;VALUE=DATE:20260112
DTSTAMP:20260424T092945
CREATED:20251218T060134Z
LAST-MODIFIED:20251218T060134Z
UID:4380-1768003200-1768175999@ilchibrainyoga-nishinomiya.com
SUMMARY:🌅腸と脳　新感覚YOGAエクササイズ
DESCRIPTION:  \n🌅新しい年、心と体に希望のスタートを！🎍\n“90分で、未来が軽やかに動き出す。” \n年末年始で疲れた腸をやさしく整える「腸もみデトックス」を、体験者全員にプレゼント🎁\n✨ 心も体もリセットして、新しい自分に出会うチャンスです。 \n💖 体験すると… \n\n体がぽかぽか温まり、心がほぐれる\n呼吸が深まり、集中力が高まる\n慢性痛がやわらぎ、前向きな気持ちに\n\n「今年こそ変わりたい」そんなあなたに、希望の扉を開く体験を。 \n\nこんな方におすすめ\n\n新しい年を明るく始めたい\n自律神経を整えて心身を安定させたい\n集中力を高めたい\n腸を整えて内側から健康に\n運動不足を解消したい\n\n\n🌟体験コース\nトレーニング90分 + 自律神経バランスチェック \n📅 開催日：1月（詳細日程あり／ご相談可）\n🕙 時間：午前・午後・夜の3枠\n💰 参加費：1回 1\,000円（要予約）\n🎒 持ち物：動きやすい服・飲み物・タオル \n\n📍会場\nイルチブレインヨガ西宮スタジオ\n（JR西宮駅 南へ徒歩３分／西宮市松原町4-4 5階）\n☎ 0798-26-9580　担当：吉田・福山 \n\n✅お申し込みはこちら\n\nLINE ⇒ https://lin.ee/oQ1yuZW\nWebフォーム ⇒ \n\n  \n\n\n\n\n\n \n体験ご希望日時\n		(必須)　※ご注意：月曜日は定休日です\n		\n \n—以下から選択してください—10111213141516171819時 —以下から選択してください—001020304050分 ～ のクラス\n \nお名前\n		 (必須)\n		\n \n\n \nメールアドレス\n		 (必須)\n		\n \n\n \nお電話番号（携帯可）\n		 (必須)\n		\n \n\n \nこちらのスタジオを何でお知りになりましたか？\n		 (必須)\n		\n \nチラシ看板書籍雑誌紹介Yahoo検索Google検索口コミその他Webサイト\n \nご関心があること、習得したいこと（複数可）\n \n肩こり腰痛の改善自然治癒力アップ集中力アップダイエット体質改善ストレス解消丹田強化呼吸法瞑想法その他\n \n備考欄\n \n\n \n\n\n \n\n Δ \n\n\n\n\n 
URL:https://ilchibrainyoga-nishinomiya.com/event/%f0%9f%8c%85%e8%85%b8%e3%81%a8%e8%84%b3%e3%80%80%e6%96%b0%e6%84%9f%e8%a6%9ayoga%e3%82%a8%e3%82%af%e3%82%b5%e3%82%b5%e3%82%a4%e3%82%ba-2/
LOCATION:イルチブレインヨガ西宮スタジオ
ATTACH;FMTTYPE=image/png:https://ilchibrainyoga-nishinomiya.com/wp-content/uploads/2025/12/bf10ce7a0d624db39af11b93fa3fc7c6.png
END:VEVENT
BEGIN:VEVENT
DTSTART;VALUE=DATE:20260106
DTEND;VALUE=DATE:20260109
DTSTAMP:20260424T092945
CREATED:20251218T060022Z
LAST-MODIFIED:20251218T060022Z
UID:4378-1767657600-1767916799@ilchibrainyoga-nishinomiya.com
SUMMARY:🌅腸と脳　新感覚YOGAエクササイズ
DESCRIPTION:  \n🌅新しい年、心と体に希望のスタートを！🎍\n“90分で、未来が軽やかに動き出す。” \n年末年始で疲れた腸をやさしく整える「腸もみデトックス」を、体験者全員にプレゼント🎁\n✨ 心も体もリセットして、新しい自分に出会うチャンスです。 \n💖 体験すると… \n\n体がぽかぽか温まり、心がほぐれる\n呼吸が深まり、集中力が高まる\n慢性痛がやわらぎ、前向きな気持ちに\n\n「今年こそ変わりたい」そんなあなたに、希望の扉を開く体験を。 \n\nこんな方におすすめ\n\n新しい年を明るく始めたい\n自律神経を整えて心身を安定させたい\n集中力を高めたい\n腸を整えて内側から健康に\n運動不足を解消したい\n\n\n🌟体験コース\nトレーニング90分 + 自律神経バランスチェック \n📅 開催日：1月（詳細日程あり／ご相談可）\n🕙 時間：午前・午後・夜の3枠\n💰 参加費：1回 1\,000円（要予約）\n🎒 持ち物：動きやすい服・飲み物・タオル \n\n📍会場\nイルチブレインヨガ西宮スタジオ\n（JR西宮駅 南へ徒歩３分／西宮市松原町4-4 5階）\n☎ 0798-26-9580　担当：吉田・福山 \n\n✅お申し込みはこちら\n\nLINE ⇒ https://lin.ee/oQ1yuZW\nWebフォーム ⇒ \n\n  \n\n\n\n\n\n \n体験ご希望日時\n		(必須)　※ご注意：月曜日は定休日です\n		\n \n—以下から選択してください—10111213141516171819時 —以下から選択してください—001020304050分 ～ のクラス\n \nお名前\n		 (必須)\n		\n \n\n \nメールアドレス\n		 (必須)\n		\n \n\n \nお電話番号（携帯可）\n		 (必須)\n		\n \n\n \nこちらのスタジオを何でお知りになりましたか？\n		 (必須)\n		\n \nチラシ看板書籍雑誌紹介Yahoo検索Google検索口コミその他Webサイト\n \nご関心があること、習得したいこと（複数可）\n \n肩こり腰痛の改善自然治癒力アップ集中力アップダイエット体質改善ストレス解消丹田強化呼吸法瞑想法その他\n \n備考欄\n \n\n \n\n\n \n\n Δ \n\n\n\n\n 
URL:https://ilchibrainyoga-nishinomiya.com/event/%f0%9f%8c%85%e8%85%b8%e3%81%a8%e8%84%b3%e3%80%80%e6%96%b0%e6%84%9f%e8%a6%9ayoga%e3%82%a8%e3%82%af%e3%82%b5%e3%82%b5%e3%82%a4%e3%82%ba/
LOCATION:イルチブレインヨガ西宮スタジオ
ATTACH;FMTTYPE=image/png:https://ilchibrainyoga-nishinomiya.com/wp-content/uploads/2025/12/bf10ce7a0d624db39af11b93fa3fc7c6.png
END:VEVENT
END:VCALENDAR