BEGIN:VCALENDAR
VERSION:2.0
PRODID:-//イルチブレインヨガ西宮スタジオ - ECPv6.15.20//NONSGML v1.0//EN
CALSCALE:GREGORIAN
METHOD:PUBLISH
X-ORIGINAL-URL:https://ilchibrainyoga-nishinomiya.com
X-WR-CALDESC:イルチブレインヨガ西宮スタジオ のイベント
REFRESH-INTERVAL;VALUE=DURATION:PT1H
X-Robots-Tag:noindex
X-PUBLISHED-TTL:PT1H
BEGIN:VTIMEZONE
TZID:Asia/Tokyo
BEGIN:STANDARD
TZOFFSETFROM:+0900
TZOFFSETTO:+0900
TZNAME:JST
DTSTART:20230101T000000
END:STANDARD
END:VTIMEZONE
BEGIN:VEVENT
DTSTART;VALUE=DATE:20241127
DTEND;VALUE=DATE:20241201
DTSTAMP:20260424T125029
CREATED:20241126T022534Z
LAST-MODIFIED:20241126T024858Z
UID:3604-1732665600-1733011199@ilchibrainyoga-nishinomiya.com
SUMMARY:冷えやすい方のための体験会
DESCRIPTION:季節は、本格的に冬へと向かっていっていますね🍁 \n自家発電できる身体と習慣を体得して、今年こそ温かく過ごしましょう‼️ \n  \n✨腸がキーワードになります！\n皆さまの腸は温かいですか！？筋力はありますか！？柔らかいですか！？良く動いていますか！？ \n良く眠れていますか？呼吸は楽ですか？リラックスできていますか？ \n  \n脳科学と東洋の伝統的なトレーニングを融合して考案された、腸や経絡にアプローチする\n簡単なエクササイズと呼吸・瞑想で、心身のバランスを整え健康をサポートします。 \n  \n内容\nカウンセリング\n体操\n呼吸法\nリラックス瞑想\n整理体操 \n日程\n1１月27日(水)、28日(木)、29日(金)、30日(土) \n時間\n平日10:00/14:00/19:00\n土日10:00/14:00 \n体験費　1000円 \n会場名：イルチブレインヨガ西宮スタジオ\n会場住所：兵庫県西宮市松原町4-4 グランディールⅢ 5階\nトレーナー：吉田あずさ、福山道子\n持ち物：動きやすい服装、汗拭きタオル、お水 \n問合せ電話：0798-26-9580 \n\nLINEからのお申し込みはこちら⇒https://lin.ee/oQ1yuZW \n\n\n  \n\n\n\n\n\n \n体験ご希望日時\n		(必須)　※ご注意：月曜日は定休日です\n		\n \n—以下から選択してください—10111213141516171819時 —以下から選択してください—001020304050分 ～ のクラス\n \nお名前\n		 (必須)\n		\n \n\n \nメールアドレス\n		 (必須)\n		\n \n\n \nお電話番号（携帯可）\n		 (必須)\n		\n \n\n \nこちらのスタジオを何でお知りになりましたか？\n		 (必須)\n		\n \nチラシ看板書籍雑誌紹介Yahoo検索Google検索口コミその他Webサイト\n \nご関心があること、習得したいこと（複数可）\n \n肩こり腰痛の改善自然治癒力アップ集中力アップダイエット体質改善ストレス解消丹田強化呼吸法瞑想法その他\n \n備考欄\n \n\n \n\n\n \n\n Δ \n\n\n\n株式会社DAHN WORLD JAPAN　ダンワールドジャパン
URL:https://ilchibrainyoga-nishinomiya.com/event/%e5%86%b7%e3%81%88%e3%82%84%e3%81%99%e3%81%84%e6%96%b9%e3%81%ae%e3%81%9f%e3%82%81%e3%81%ae%e4%bd%93%e9%a8%93%e4%bc%9a/
LOCATION:イルチブレインヨガ西宮スタジオ\, 兵庫県西宮市松原町4-4 グランディールⅢ 5階\, 662-0912
ATTACH;FMTTYPE=image/jpeg:https://ilchibrainyoga-nishinomiya.com/wp-content/uploads/2020/01/CF5F7E57-ACB0-4DAD-A6BF-649316358D45.jpeg
END:VEVENT
END:VCALENDAR